BEGIN:VCALENDAR
VERSION:2.0
PRODID:-//jEvents 2.0 for Joomla//EN
CALSCALE:GREGORIAN
METHOD:PUBLISH
BEGIN:VTIMEZONE
TZID:Europe/Berlin
BEGIN:STANDARD
DTSTART:20241027T020000
RDATE:20250330T030000
TZOFFSETFROM:+0200
TZOFFSETTO:+0100
TZNAME:Europe/Berlin CET
END:STANDARD
BEGIN:STANDARD
DTSTART:20251026T020000
RDATE:20260329T030000
TZOFFSETFROM:+0200
TZOFFSETTO:+0100
TZNAME:Europe/Berlin CET
END:STANDARD
BEGIN:DAYLIGHT
DTSTART:20240829T140000
RDATE:20241027T020000
TZOFFSETFROM:+0100
TZOFFSETTO:+0200
TZNAME:Europe/Berlin CEST
END:DAYLIGHT
BEGIN:DAYLIGHT
DTSTART:20250330T030000
RDATE:20251026T020000
TZOFFSETFROM:+0100
TZOFFSETTO:+0200
TZNAME:Europe/Berlin CEST
END:DAYLIGHT
END:VTIMEZONE
BEGIN:VEVENT
UID:6867de83ecbf7@82.calovo
CATEGORIES:TSV 1860 München
CREATED:20250921T100502
SUMMARY:M60 1:1 (0:1) VfB Stuttgart II
LOCATION:calovo.de | Stadion an der Grünwalder Straße (Stadion)\, München\, Deutschl
 and
DESCRIPTION:TSV 1860 München 1:1 (0:1) VfB Stuttgart II\n\nTSV 1860 München:\nVolland, 
 Niederlechner, Dähne, Jacobsen (70. Hobsch), Verlaat, Wolfram, Philipp (89.
  Schifferl), Danhof, Dulic, Voet (86. Haugen), Deniz (46. Christiansen)\n\n
 VfB Stuttgart II:\nNothnagel, Groiß, Sessa, Sankoh (56. Ouro-Tagba), Di Ben
 edetto (46. Bujupi), Hellstern, Korkut (78. Herwerth), Majchrzak (67. Lüers
 ), Olivier (56. Glück), Meyer, Ćatović\n\nTore:\n0:1 Ćatović (25.)\n1:1 Hau
 gen (90.)\n\nAKTUELLE NEWS VON SPORT.DE\n\n 	* 1860 München siegt dank spät
 em Doppelschlag http://www.sport.de/n/DXUpVybj/ (http://www.sport.de/n/DXUp
 Vybj/) \n\n \n\n\n\n\nAnbieter-Impressum: https://calovo.de/impressum (http
 s://calovo.de/impressum)\n\n\ncalovo Kalender löschen? Anleitung: termine.d
 e/ical/loeschen
X-ALT-DESC;FMTTYPE=text/html:TSV 1860 München 1:1 (0:1) VfB Stuttgart II<br/><br/>TSV 1860 München:<br/>
 Volland, Niederlechner, Dähne, Jacobsen (70. Hobsch), Verlaat, Wolfram, Phi
 lipp (89. Schifferl), Danhof, Dulic, Voet (86. Haugen), Deniz (46. Christia
 nsen)<br/><br/>VfB Stuttgart II:<br/>Nothnagel, Groiß, Sessa, Sankoh (56. O
 uro-Tagba), Di Benedetto (46. Bujupi), Hellstern, Korkut (78. Herwerth), Ma
 jchrzak (67. Lüers), Olivier (56. Glück), Meyer, Ćatović<br/><br/>Tore:<br/
 >0:1 Ćatović (25.)<br/>1:1 Haugen (90.)<br/><br/>AKTUELLE NEWS VON SPORT.DE
 <br/><br/> 	* 1860 München siegt dank spätem Doppelschlag <a href="http://w
 ww.sport.de/n/DXUpVybj/">http://www.sport.de/n/DXUpVybj/</a> <br/><br/> <br
 /><br/><br/><br/><br/>Anbieter-Impressum: <a href="https://calovo.de/impres
 sum">https://calovo.de/impressum</a><br/><br/><br/>calovo Kalender löschen?
  Anleitung: termine.de/ical/loeschen
DTSTAMP:20260422T194439
DTSTART;TZID=Europe/Berlin:20250830T140000
DTEND;TZID=Europe/Berlin:20250830T160000
SEQUENCE:0
TRANSP:OPAQUE
END:VEVENT
END:VCALENDAR