BEGIN:VCALENDAR
VERSION:2.0
PRODID:-//jEvents 2.0 for Joomla//EN
CALSCALE:GREGORIAN
METHOD:PUBLISH
BEGIN:VTIMEZONE
TZID:Europe/Berlin
BEGIN:STANDARD
DTSTART:20241027T020000
RDATE:20250330T030000
TZOFFSETFROM:+0200
TZOFFSETTO:+0100
TZNAME:Europe/Berlin CET
END:STANDARD
BEGIN:STANDARD
DTSTART:20251026T020000
RDATE:20260329T030000
TZOFFSETFROM:+0200
TZOFFSETTO:+0100
TZNAME:Europe/Berlin CET
END:STANDARD
BEGIN:DAYLIGHT
DTSTART:20240913T193000
RDATE:20241027T020000
TZOFFSETFROM:+0100
TZOFFSETTO:+0200
TZNAME:Europe/Berlin CEST
END:DAYLIGHT
BEGIN:DAYLIGHT
DTSTART:20250330T030000
RDATE:20251026T020000
TZOFFSETFROM:+0100
TZOFFSETTO:+0200
TZNAME:Europe/Berlin CEST
END:DAYLIGHT
END:VTIMEZONE
BEGIN:VEVENT
UID:6867de85e4141@82.calovo
CATEGORIES:TSV 1860 München
CREATED:20250921T100502
SUMMARY:M60 3:2 (2:0) TSV Havelse
LOCATION:calovo.de | Stadion an der Grünwalder Straße (Stadion)\, München\, Deutschl
 and
DESCRIPTION:TSV 1860 München 3:2 (2:0) TSV Havelse<br/><br/>TSV 1860 München:<br/>Volla
 nd, Niederlechner (68. Philipp), Dähne, Christiansen, Jacobsen, Verlaat, Ri
 ttmüller, Dulic, Haugen (79. Hobsch), Pfeifer (68. Wolfram), Voet<br/><br/>
 TSV Havelse:<br/>Kolgeci, Minz (88. Posselt), Opitz, Riedel, Düker, Oltrogg
 e (72. Berger), Plume, Boujellab, Sommer, Müller, Ilic (80. Paldino)<br/><b
 r/>Tore:<br/>1:0 Volland (39.)<br/>2:0 Haugen (45.)<br/>2:1 Niederlechner (
 58.)<br/>2:2 Posselt (88.)<br/>3:2 Hobsch (90.)<br/><br/>AKTUELLE NEWS VON 
 SPORT.DE<br/><br/> 	* Das sagt Ismaik zu den Lehmann-Gerüchten bei 1860 Mün
 chen <a href="http://www.sport.de/n/lmUdyrRa/">http://www.sport.de/n/lmUdyr
 Ra/</a> <br/><br/> <br/><br/><br/><br/><br/>Anbieter-Impressum: <a href="ht
 tps://calovo.de/impressum">https://calovo.de/impressum</a><br/><br/><br/>ca
 lovo Kalender löschen? Anleitung: termine.de/ical/loeschen
DTSTAMP:20260422T194533
DTSTART;TZID=Europe/Berlin:20250914T193000
DTEND;TZID=Europe/Berlin:20250914T213000
SEQUENCE:0
TRANSP:OPAQUE
END:VEVENT
END:VCALENDAR