BEGIN:VCALENDAR
VERSION:2.0
PRODID:-//jEvents 2.0 for Joomla//EN
CALSCALE:GREGORIAN
METHOD:PUBLISH
BEGIN:VTIMEZONE
TZID:Europe/Berlin
BEGIN:STANDARD
DTSTART:20241027T020000
RDATE:20250330T030000
TZOFFSETFROM:+0200
TZOFFSETTO:+0100
TZNAME:Europe/Berlin CET
END:STANDARD
BEGIN:STANDARD
DTSTART:20251026T020000
RDATE:20260329T030000
TZOFFSETFROM:+0200
TZOFFSETTO:+0100
TZNAME:Europe/Berlin CET
END:STANDARD
BEGIN:DAYLIGHT
DTSTART:20240916T190000
RDATE:20241027T020000
TZOFFSETFROM:+0100
TZOFFSETTO:+0200
TZNAME:Europe/Berlin CEST
END:DAYLIGHT
BEGIN:DAYLIGHT
DTSTART:20250330T030000
RDATE:20251026T020000
TZOFFSETFROM:+0100
TZOFFSETTO:+0200
TZNAME:Europe/Berlin CEST
END:DAYLIGHT
END:VTIMEZONE
BEGIN:VEVENT
UID:6867de873dff0@82.calovo
CATEGORIES:TSV 1860 München
CREATED:20250921T100502
SUMMARY:Hansa Rostock 2:1 (2:0) M60
LOCATION:calovo.de | Ostseestadion (Stadion)\, Rostock\, Deutschland
DESCRIPTION:Hansa Rostock 2:1 (2:0) TSV 1860 München\n\nHansa Rostock:\nUphoff, Pfanne,
  Schuster, Harenbrock (79. Dirkner), Carstens, Krauß (90. Krohn), Gürleyen 
 (90. Gebuhr), Dietze (68. Fatkić), Mejdr, Bergh, Holten (79. Naderi)\n\nTSV
  1860 München:\nVoet (46. Philipp), Niederlechner, Dähne, Christiansen, Jac
 obsen (46. Deniz), Verlaat (38. Schifferl), Wolfram (76. Hobsch), Rittmülle
 r, Dulic, Haugen (46. Steinkötter), Pfeifer\n\nTore:\n1:0 Dietze (31.)\n2:0
  Krauß (34.)\n2:1 Dulic (89.)\n\nAKTUELLE NEWS VON SPORT.DE\n\n 	* TSV 1860
  München gewinnt dramatisch http://www.sport.de/n/xPUDbzk0/ (http://www.spo
 rt.de/n/xPUDbzk0/) \n\n \n\n\n\n\nAnbieter-Impressum: https://calovo.de/imp
 ressum (https://calovo.de/impressum)\n\n\ncalovo Kalender löschen? Anleitun
 g: termine.de/ical/loeschen
X-ALT-DESC;FMTTYPE=text/html:Hansa Rostock 2:1 (2:0) TSV 1860 München<br/><br/>Hansa Rostock:<br/>Uphoff
 , Pfanne, Schuster, Harenbrock (79. Dirkner), Carstens, Krauß (90. Krohn), 
 Gürleyen (90. Gebuhr), Dietze (68. Fatkić), Mejdr, Bergh, Holten (79. Nader
 i)<br/><br/>TSV 1860 München:<br/>Voet (46. Philipp), Niederlechner, Dähne,
  Christiansen, Jacobsen (46. Deniz), Verlaat (38. Schifferl), Wolfram (76. 
 Hobsch), Rittmüller, Dulic, Haugen (46. Steinkötter), Pfeifer<br/><br/>Tore
 :<br/>1:0 Dietze (31.)<br/>2:0 Krauß (34.)<br/>2:1 Dulic (89.)<br/><br/>AKT
 UELLE NEWS VON SPORT.DE<br/><br/> 	* TSV 1860 München gewinnt dramatisch <a
  href="http://www.sport.de/n/xPUDbzk0/">http://www.sport.de/n/xPUDbzk0/</a>
  <br/><br/> <br/><br/><br/><br/><br/>Anbieter-Impressum: <a href="https://c
 alovo.de/impressum">https://calovo.de/impressum</a><br/><br/><br/>calovo Ka
 lender löschen? Anleitung: termine.de/ical/loeschen
DTSTAMP:20260422T194343
DTSTART;TZID=Europe/Berlin:20250917T190000
DTEND;TZID=Europe/Berlin:20250917T210000
SEQUENCE:0
TRANSP:OPAQUE
END:VEVENT
END:VCALENDAR