BEGIN:VCALENDAR
VERSION:2.0
PRODID:-//jEvents 2.0 for Joomla//EN
CALSCALE:GREGORIAN
METHOD:PUBLISH
BEGIN:VTIMEZONE
TZID:Europe/Berlin
BEGIN:STANDARD
DTSTART:20241027T020000
RDATE:20250330T030000
TZOFFSETFROM:+0200
TZOFFSETTO:+0100
TZNAME:Europe/Berlin CET
END:STANDARD
BEGIN:STANDARD
DTSTART:20251026T020000
RDATE:20260329T030000
TZOFFSETFROM:+0200
TZOFFSETTO:+0100
TZNAME:Europe/Berlin CET
END:STANDARD
BEGIN:DAYLIGHT
DTSTART:20240919T163000
RDATE:20241027T020000
TZOFFSETFROM:+0100
TZOFFSETTO:+0200
TZNAME:Europe/Berlin CEST
END:DAYLIGHT
BEGIN:DAYLIGHT
DTSTART:20250330T030000
RDATE:20251026T020000
TZOFFSETFROM:+0100
TZOFFSETTO:+0200
TZNAME:Europe/Berlin CEST
END:DAYLIGHT
END:VTIMEZONE
BEGIN:VEVENT
UID:6867de89e4a4f@82.calovo
CATEGORIES:TSV 1860 München
CREATED:20250921T100502
SUMMARY:M60 1:5 (0:2) 1899 Hoffenheim II
LOCATION:calovo.de | Stadion an der Grünwalder Straße (Stadion)\, München\, Deutschl
 and
DESCRIPTION:TSV 1860 München 1:5 (0:2) 1899 Hoffenheim II<br/><br/>TSV 1860 München:<br
 />Niederlechner (74. Haugen), Dähne, Christiansen (46. Deniz), Jacobsen, Du
 lic, Pfeifer (46. Lippmann), Voet (46. Philipp), Volland, Hobsch (46. Stein
 kötter), Schifferl, Rittmüller<br/><br/>1899 Hoffenheim II:<br/>Lässig, Đur
 ić, Behrens (75. Bähr), Petersson, Hennrich, Amaimouni-Echghouyab (64. El-J
 indaoui), Hör (65. Dağdeviren), Llugiqi (75. Onos), Lührs, Erlein, Zeitler 
 (67. Opoku)<br/><br/>Tore:<br/>0:1 Amaimouni-Echghouyab (39.)<br/>0:2 Amaim
 ouni-Echghouyab (45.)<br/>0:3 Hennrich (56.)<br/>0:4 Hennrich (69.)<br/>1:4
  Philipp (72.)<br/>1:5 Opoku (80.)<br/><br/>AKTUELLE NEWS VON SPORT.DE<br/>
 <br/> 	* Kind nach Hansa-Spiel schwer verletzt <a href="http://www.sport.de
 /n/azU8PGq0/">http://www.sport.de/n/azU8PGq0/</a> <br/><br/> <br/><br/><br/
 ><br/><br/>Anbieter-Impressum: <a href="https://calovo.de/impressum">https:
 //calovo.de/impressum</a><br/><br/><br/>calovo Kalender löschen? Anleitung:
  termine.de/ical/loeschen
DTSTAMP:20260422T194533
DTSTART;TZID=Europe/Berlin:20250920T163000
DTEND;TZID=Europe/Berlin:20250920T183000
SEQUENCE:0
TRANSP:OPAQUE
END:VEVENT
END:VCALENDAR