BEGIN:VCALENDAR
VERSION:2.0
PRODID:-//jEvents 2.0 for Joomla//EN
CALSCALE:GREGORIAN
METHOD:PUBLISH
BEGIN:VTIMEZONE
TZID:Europe/Berlin
BEGIN:STANDARD
DTSTART:20241027T020000
RDATE:20250330T030000
TZOFFSETFROM:+0200
TZOFFSETTO:+0100
TZNAME:Europe/Berlin CET
END:STANDARD
BEGIN:STANDARD
DTSTART:20251026T020000
RDATE:20260329T030000
TZOFFSETFROM:+0200
TZOFFSETTO:+0100
TZNAME:Europe/Berlin CET
END:STANDARD
BEGIN:DAYLIGHT
DTSTART:20240926T140000
RDATE:20241027T020000
TZOFFSETFROM:+0100
TZOFFSETTO:+0200
TZNAME:Europe/Berlin CEST
END:DAYLIGHT
BEGIN:DAYLIGHT
DTSTART:20250330T030000
RDATE:20251026T020000
TZOFFSETFROM:+0100
TZOFFSETTO:+0200
TZNAME:Europe/Berlin CEST
END:DAYLIGHT
END:VTIMEZONE
BEGIN:VEVENT
UID:6867de8ab15f9@82.calovo
CATEGORIES:TSV 1860 München
CREATED:20250921T100502
SUMMARY:Erzgebirge Aue 2:0 (1:0) M60
LOCATION:calovo.de | Erzgebirgsstadion (Stadion)\, Aue-Bad Schlema\, Deutschland
DESCRIPTION:Erzgebirge Aue 2:0 (1:0) TSV 1860 München\n\nErzgebirge Aue:\nMännel, Stefa
 niak, Barylla, Guttau (73. Simnica), Majetschak, Fabisch, Uhlmann (89. Tash
 chy), Schmid (73. Günther-Schmidt), Fallmann, Clausen (60. Ehlers), Zobel\n
 \nTSV 1860 München:\nVolland, Niederlechner (59. Haugen), Dähne, Christians
 en (68. Jacobsen), Wolfram (59. Philipp), Steinkötter (46. Lippmann), Rittm
 üller, Deniz (82. Hobsch), Dulic, Pfeifer, Voet\n\nTore:\n1:0 Stefaniak (20
 .)\n2:0 Uhlmann (82.)\n\nAKTUELLE NEWS VON SPORT.DE\n\n 	* 1860-Coach vor R
 ausschmiss? "Halten uns jede Option offen" http://www.sport.de/n/VzUL7E6g/ 
 (http://www.sport.de/n/VzUL7E6g/) \n\n \n\n\n\n\nAnbieter-Impressum: https:
 //calovo.de/impressum (https://calovo.de/impressum)\n\n\ncalovo Kalender lö
 schen? Anleitung: termine.de/ical/loeschen
X-ALT-DESC;FMTTYPE=text/html:Erzgebirge Aue 2:0 (1:0) TSV 1860 München<br/><br/>Erzgebirge Aue:<br/>Männ
 el, Stefaniak, Barylla, Guttau (73. Simnica), Majetschak, Fabisch, Uhlmann 
 (89. Tashchy), Schmid (73. Günther-Schmidt), Fallmann, Clausen (60. Ehlers)
 , Zobel<br/><br/>TSV 1860 München:<br/>Volland, Niederlechner (59. Haugen),
  Dähne, Christiansen (68. Jacobsen), Wolfram (59. Philipp), Steinkötter (46
 . Lippmann), Rittmüller, Deniz (82. Hobsch), Dulic, Pfeifer, Voet<br/><br/>
 Tore:<br/>1:0 Stefaniak (20.)<br/>2:0 Uhlmann (82.)<br/><br/>AKTUELLE NEWS 
 VON SPORT.DE<br/><br/> 	* 1860-Coach vor Rausschmiss? "Halten uns jede Opti
 on offen" <a href="http://www.sport.de/n/VzUL7E6g/">http://www.sport.de/n/V
 zUL7E6g/</a> <br/><br/> <br/><br/><br/><br/><br/>Anbieter-Impressum: <a hre
 f="https://calovo.de/impressum">https://calovo.de/impressum</a><br/><br/><b
 r/>calovo Kalender löschen? Anleitung: termine.de/ical/loeschen
DTSTAMP:20260422T230702
DTSTART;TZID=Europe/Berlin:20250927T140000
DTEND;TZID=Europe/Berlin:20250927T160000
SEQUENCE:0
TRANSP:OPAQUE
END:VEVENT
END:VCALENDAR