BEGIN:VCALENDAR
VERSION:2.0
PRODID:-//jEvents 2.0 for Joomla//EN
CALSCALE:GREGORIAN
METHOD:PUBLISH
BEGIN:VTIMEZONE
TZID:Europe/Berlin
BEGIN:STANDARD
DTSTART:20241027T020000
RDATE:20250330T030000
TZOFFSETFROM:+0200
TZOFFSETTO:+0100
TZNAME:Europe/Berlin CET
END:STANDARD
BEGIN:STANDARD
DTSTART:20251026T020000
RDATE:20260329T030000
TZOFFSETFROM:+0200
TZOFFSETTO:+0100
TZNAME:Europe/Berlin CET
END:STANDARD
BEGIN:DAYLIGHT
DTSTART:20240930T190000
RDATE:20241027T020000
TZOFFSETFROM:+0100
TZOFFSETTO:+0200
TZNAME:Europe/Berlin CEST
END:DAYLIGHT
BEGIN:DAYLIGHT
DTSTART:20250330T030000
RDATE:20251026T020000
TZOFFSETFROM:+0100
TZOFFSETTO:+0200
TZNAME:Europe/Berlin CEST
END:DAYLIGHT
END:VTIMEZONE
BEGIN:VEVENT
UID:6867de8db4b60@82.calovo
CATEGORIES:TSV 1860 München
CREATED:20250921T100502
SUMMARY:M60 2:2 (1:2) Viktoria Köln
LOCATION:calovo.de | Stadion an der Grünwalder Straße (Stadion)\, München\, Deutschl
 and
DESCRIPTION:TSV 1860 München 2:2 (1:2) Viktoria Köln\n\nTSV 1860 München:\nVollath, Nie
 derlechner, Christiansen (69. Deniz), Jacobsen, Voet, Volland (24. Haugen),
  Wolfram (86. Philipp), Rittmüller, Dulic, Lippmann (46. Hobsch), Pfeifer\n
 \nViktoria Köln:\nHandle, Ronstadt (46. Sponsel), Greger, Otto (46. Agyekum
 ), Dietz, Dudu, Eisenhuth, Münst, Lobinger (65. Zank), Engelhardt (59. Wolf
 ), Kloss\n\nTore:\n0:1 Lobinger (4.)\n0:2 Otto (8.)\n1:2 Christiansen (41.)
 \n2:2 Hobsch (52.)\n\nAKTUELLE NEWS VON SPORT.DE\n\n 	* Gladbach-Coach Pola
 nski bei 1860 München gehandelt http://www.sport.de/n/onUK2qM6/ (http://www
 .sport.de/n/onUK2qM6/) \n\n \n\n\n\n\nAnbieter-Impressum: https://calovo.de
 /impressum (https://calovo.de/impressum)\n\n\ncalovo Kalender löschen? Anle
 itung: termine.de/ical/loeschen
X-ALT-DESC;FMTTYPE=text/html:TSV 1860 München 2:2 (1:2) Viktoria Köln<br/><br/>TSV 1860 München:<br/>Vol
 lath, Niederlechner, Christiansen (69. Deniz), Jacobsen, Voet, Volland (24.
  Haugen), Wolfram (86. Philipp), Rittmüller, Dulic, Lippmann (46. Hobsch), 
 Pfeifer<br/><br/>Viktoria Köln:<br/>Handle, Ronstadt (46. Sponsel), Greger,
  Otto (46. Agyekum), Dietz, Dudu, Eisenhuth, Münst, Lobinger (65. Zank), En
 gelhardt (59. Wolf), Kloss<br/><br/>Tore:<br/>0:1 Lobinger (4.)<br/>0:2 Ott
 o (8.)<br/>1:2 Christiansen (41.)<br/>2:2 Hobsch (52.)<br/><br/>AKTUELLE NE
 WS VON SPORT.DE<br/><br/> 	* Gladbach-Coach Polanski bei 1860 München gehan
 delt <a href="http://www.sport.de/n/onUK2qM6/">http://www.sport.de/n/onUK2q
 M6/</a> <br/><br/> <br/><br/><br/><br/><br/>Anbieter-Impressum: <a href="ht
 tps://calovo.de/impressum">https://calovo.de/impressum</a><br/><br/><br/>ca
 lovo Kalender löschen? Anleitung: termine.de/ical/loeschen
DTSTAMP:20260422T194440
DTSTART;TZID=Europe/Berlin:20251001T190000
DTEND;TZID=Europe/Berlin:20251001T210000
SEQUENCE:0
TRANSP:OPAQUE
END:VEVENT
END:VCALENDAR