BEGIN:VCALENDAR
VERSION:2.0
PRODID:-//jEvents 2.0 for Joomla//EN
CALSCALE:GREGORIAN
METHOD:PUBLISH
BEGIN:VTIMEZONE
TZID:Europe/Berlin
BEGIN:STANDARD
DTSTART:20241027T020000
RDATE:20250330T030000
TZOFFSETFROM:+0200
TZOFFSETTO:+0100
TZNAME:Europe/Berlin CET
END:STANDARD
BEGIN:STANDARD
DTSTART:20251026T020000
RDATE:20260329T030000
TZOFFSETFROM:+0200
TZOFFSETTO:+0100
TZNAME:Europe/Berlin CET
END:STANDARD
BEGIN:DAYLIGHT
DTSTART:20241004T163000
RDATE:20241027T020000
TZOFFSETFROM:+0100
TZOFFSETTO:+0200
TZNAME:Europe/Berlin CEST
END:DAYLIGHT
BEGIN:DAYLIGHT
DTSTART:20250330T030000
RDATE:20251026T020000
TZOFFSETFROM:+0100
TZOFFSETTO:+0200
TZNAME:Europe/Berlin CEST
END:DAYLIGHT
END:VTIMEZONE
BEGIN:VEVENT
UID:6867de8f202c9@82.calovo
CATEGORIES:TSV 1860 München
CREATED:20250921T100502
SUMMARY:SV Wehen Wiesbaden 1:0 (0:0) M60
LOCATION:calovo.de | Brita-Arena (Stadion)\, Wiesbaden\, Deutschland
DESCRIPTION:SV Wehen Wiesbaden 1:0 (0:0) TSV 1860 München<br/><br/>SV Wehen Wiesbaden:<
 br/>Stritzel, Agrafiotis (75. Flotho), Kaya, Johansson, Janitzek, Schleimer
  (90. Greilinger), May, Lewald (74. Gillekens), Gözüsirin (83. Bogićević), 
 Wohlers (90. Mockenhaupt), David Suárez<br/><br/>TSV 1860 München:<br/>Voll
 ath, Niederlechner, Christiansen (88. Maier), Jacobsen, Philipp (61. Hobsch
 ), Voet, Wolfram, Rittmüller (76. Danhof), Dulic, Haugen (76. Lippmann), Pf
 eifer (88. Steinkötter)<br/><br/>Tore:<br/>1:0 Flotho (87.)<br/><br/>AKTUEL
 LE NEWS VON SPORT.DE<br/><br/> 	* 1860 München holt Punkt nach Horror-Start
  <a href="http://www.sport.de/n/16U83DE1/">http://www.sport.de/n/16U83DE1/<
 /a> <br/><br/> <br/><br/><br/><br/><br/>Anbieter-Impressum: <a href="https:
 //calovo.de/impressum">https://calovo.de/impressum</a><br/><br/><br/>calovo
  Kalender löschen? Anleitung: termine.de/ical/loeschen
DTSTAMP:20260422T194445
DTSTART;TZID=Europe/Berlin:20251005T163000
DTEND;TZID=Europe/Berlin:20251005T183000
SEQUENCE:0
TRANSP:OPAQUE
END:VEVENT
END:VCALENDAR