BEGIN:VCALENDAR
VERSION:2.0
PRODID:-//jEvents 2.0 for Joomla//EN
CALSCALE:GREGORIAN
METHOD:PUBLISH
BEGIN:VTIMEZONE
TZID:Europe/Berlin
BEGIN:STANDARD
DTSTART:20241027T020000
RDATE:20250330T030000
TZOFFSETFROM:+0200
TZOFFSETTO:+0100
TZNAME:Europe/Berlin CET
END:STANDARD
BEGIN:STANDARD
DTSTART:20251026T020000
RDATE:20260329T030000
TZOFFSETFROM:+0200
TZOFFSETTO:+0100
TZNAME:Europe/Berlin CET
END:STANDARD
BEGIN:DAYLIGHT
DTSTART:20241024T140000
RDATE:20241027T020000
TZOFFSETFROM:+0100
TZOFFSETTO:+0200
TZNAME:Europe/Berlin CEST
END:DAYLIGHT
BEGIN:DAYLIGHT
DTSTART:20250330T030000
RDATE:20251026T020000
TZOFFSETFROM:+0100
TZOFFSETTO:+0200
TZNAME:Europe/Berlin CEST
END:DAYLIGHT
END:VTIMEZONE
BEGIN:VEVENT
UID:6867de91b5bdc@82.calovo
CATEGORIES:TSV 1860 München
CREATED:20250921T100502
SUMMARY:Waldhof Mannheim 3:1 (1:1) M60
LOCATION:calovo.de | Carl-Benz-Stadion (Stadion)\, Mannheim\, Deutschland
DESCRIPTION:Waldhof Mannheim 3:1 (1:1) TSV 1860 München\n\nWaldhof Mannheim:\nLohkemper
 , Klünter, Hoffmann, Ferati (56. Michel), Karbstein, Rieckmann (56. Diakhab
 y), Abifade (85. Sechelmann), Sietan, Nijhuis, Okpala (85. Boyd), Masca (89
 . Djayson Mendes)\n\nTSV 1860 München:\nVolland (67. Philipp), Niederlechne
 r (67. Hobsch), Dähne, Christiansen (67. Maier), Jacobsen (84. Reinthaler),
  Schifferl, Rittmüller, Dulic, Haugen, Lippmann (76. Wolfram), Voet\n\nTore
 :\n0:1 Christiansen (10.)\n1:1 Abifade (24.)\n2:1 Okpala (60.)\n3:1 Okpala 
 (66.)\n\n\n\n\n\nAnbieter-Impressum: https://calovo.de/impressum (https://c
 alovo.de/impressum)\n\n\ncalovo Kalender löschen? Anleitung: termine.de/ica
 l/loeschen
X-ALT-DESC;FMTTYPE=text/html:Waldhof Mannheim 3:1 (1:1) TSV 1860 München<br/><br/>Waldhof Mannheim:<br/>
 Lohkemper, Klünter, Hoffmann, Ferati (56. Michel), Karbstein, Rieckmann (56
 . Diakhaby), Abifade (85. Sechelmann), Sietan, Nijhuis, Okpala (85. Boyd), 
 Masca (89. Djayson Mendes)<br/><br/>TSV 1860 München:<br/>Volland (67. Phil
 ipp), Niederlechner (67. Hobsch), Dähne, Christiansen (67. Maier), Jacobsen
  (84. Reinthaler), Schifferl, Rittmüller, Dulic, Haugen, Lippmann (76. Wolf
 ram), Voet<br/><br/>Tore:<br/>0:1 Christiansen (10.)<br/>1:1 Abifade (24.)<
 br/>2:1 Okpala (60.)<br/>3:1 Okpala (66.)<br/><br/><br/><br/><br/><br/>Anbi
 eter-Impressum: <a href="https://calovo.de/impressum">https://calovo.de/imp
 ressum</a><br/><br/><br/>calovo Kalender löschen? Anleitung: termine.de/ica
 l/loeschen
DTSTAMP:20260422T194439
DTSTART;TZID=Europe/Berlin:20251025T140000
DTEND;TZID=Europe/Berlin:20251025T160000
SEQUENCE:0
TRANSP:OPAQUE
END:VEVENT
END:VCALENDAR