BEGIN:VCALENDAR
VERSION:2.0
PRODID:-//jEvents 2.0 for Joomla//EN
CALSCALE:GREGORIAN
METHOD:PUBLISH
BEGIN:VTIMEZONE
TZID:Europe/Berlin
BEGIN:STANDARD
DTSTART:20241031T140000
RDATE:20250330T030000
TZOFFSETFROM:+0200
TZOFFSETTO:+0100
TZNAME:Europe/Berlin CET
END:STANDARD
BEGIN:STANDARD
DTSTART:20251026T020000
RDATE:20260329T030000
TZOFFSETFROM:+0200
TZOFFSETTO:+0100
TZNAME:Europe/Berlin CET
END:STANDARD
BEGIN:DAYLIGHT
DTSTART:20250330T030000
RDATE:20251026T020000
TZOFFSETFROM:+0100
TZOFFSETTO:+0200
TZNAME:Europe/Berlin CEST
END:DAYLIGHT
END:VTIMEZONE
BEGIN:VEVENT
UID:6867de9530563@82.calovo
CATEGORIES:TSV 1860 München
CREATED:20250921T100502
SUMMARY:M60 3:0 (2:0) Energie Cottbus
LOCATION:calovo.de | Stadion an der Grünwalder Straße (Stadion)\, München\, Deutschl
 and
DESCRIPTION:TSV 1860 München 3:0 (2:0) Energie Cottbus\n\nTSV 1860 München:\nDähne, Voe
 t, Jacobsen, Philipp (79. Wolfram), Reinthaler, Haugen (90. Hobsch), Dulic,
  Rittmüller (90. Pfeifer), Volland (79. Niederlechner), Deniz (62. Christia
 nsen), Lippmann\n\nEnergie Cottbus:\nFunk, Manu, Rorig (90. Straudi), Peliv
 an, Michelbrink (46. Biankadi), Ciğerci (90. Moustfa), Engelhardt, Boziaris
  (61. Thiele), Borgmann, Awortwie-Grant, Lucoqui (61. Butler)\n\nTore:\n1:0
  Jacobsen (39.)\n2:0 Jacobsen (45.)\n3:0 Manu (82.)\n\nAKTUELLE NEWS VON SP
 ORT.DE\n\n 	* Hoeneß wies 1860-Investor beim FC Bayern ab http://www.sport.
 de/n/EXUwGx1p/ \n\n \n\n\n\n\nAnbieter-Impressum: https://calovo.de/impress
 um (https://calovo.de/impressum)\n\n\ncalovo Kalender löschen? Anleitung: t
 ermine.de/ical/loeschen
X-ALT-DESC;FMTTYPE=text/html:TSV 1860 München 3:0 (2:0) Energie Cottbus<br/><br/>TSV 1860 München:<br/>D
 ähne, Voet, Jacobsen, Philipp (79. Wolfram), Reinthaler, Haugen (90. Hobsch
 ), Dulic, Rittmüller (90. Pfeifer), Volland (79. Niederlechner), Deniz (62.
  Christiansen), Lippmann<br/><br/>Energie Cottbus:<br/>Funk, Manu, Rorig (9
 0. Straudi), Pelivan, Michelbrink (46. Biankadi), Ciğerci (90. Moustfa), En
 gelhardt, Boziaris (61. Thiele), Borgmann, Awortwie-Grant, Lucoqui (61. But
 ler)<br/><br/>Tore:<br/>1:0 Jacobsen (39.)<br/>2:0 Jacobsen (45.)<br/>3:0 M
 anu (82.)<br/><br/>AKTUELLE NEWS VON SPORT.DE<br/><br/> 	* Hoeneß wies 1860
 -Investor beim FC Bayern ab <a href="http://www.sport.de/n/EXUwGx1p/">http:
 //www.sport.de/n/EXUwGx1p/</a> <br/><br/> <br/><br/><br/><br/><br/>Anbieter
 -Impressum: <a href="https://calovo.de/impressum">https://calovo.de/impress
 um</a><br/><br/><br/>calovo Kalender löschen? Anleitung: termine.de/ical/lo
 eschen
DTSTAMP:20260422T194343
DTSTART;TZID=Europe/Berlin:20251101T140000
DTEND;TZID=Europe/Berlin:20251101T160000
SEQUENCE:0
TRANSP:OPAQUE
END:VEVENT
END:VCALENDAR