BEGIN:VCALENDAR
VERSION:2.0
PRODID:-//jEvents 2.0 for Joomla//EN
CALSCALE:GREGORIAN
METHOD:PUBLISH
BEGIN:VTIMEZONE
TZID:Europe/Berlin
BEGIN:STANDARD
DTSTART:20241108T163000
RDATE:20250330T030000
TZOFFSETFROM:+0200
TZOFFSETTO:+0100
TZNAME:Europe/Berlin CET
END:STANDARD
BEGIN:STANDARD
DTSTART:20251026T020000
RDATE:20260329T030000
TZOFFSETFROM:+0200
TZOFFSETTO:+0100
TZNAME:Europe/Berlin CET
END:STANDARD
BEGIN:DAYLIGHT
DTSTART:20250330T030000
RDATE:20251026T020000
TZOFFSETFROM:+0100
TZOFFSETTO:+0200
TZNAME:Europe/Berlin CEST
END:DAYLIGHT
END:VTIMEZONE
BEGIN:VEVENT
UID:6867de96f413b@82.calovo
CATEGORIES:TSV 1860 München
CREATED:20250921T100502
SUMMARY:Jahn Regensburg 4:0 (1:0) M60
LOCATION:calovo.de | Jahnstadion Regensburg (Stadion)\, Regensburg\, Deutschland
DESCRIPTION:Jahn Regensburg 4:0 (1:0) TSV 1860 München\n\nJahn Regensburg:\nSaller (69.
  Müller), Stolze (69. Schönfelder), Ziegele (50. Mätzler), Fein (88. Dietz)
 , Hottmann, Bauer, Gebhardt, Wurm, Hermes (88. Galjen), Eichinger, Strauß\n
 \nTSV 1860 München:\nVolland (46. Niederlechner), Dähne, Reinthaler, Christ
 iansen (46. Maier), Jacobsen, Philipp (76. Hobsch), Rittmüller, Dulic, Haug
 en, Voet (90. Faßmann), Lippmann (76. Wolfram)\n\nTore:\n1:0 Hermes (32.)\n
 2:0 Wurm (75.)\n3:0 Eichinger (80.)\n4:0 Müller (85.)\n\nAKTUELLE NEWS VON 
 SPORT.DE\n\n 	* DFB leitet Ermittlungen nach Rassismusskandal ein http://ww
 w.sport.de/n/RXUm03aw/ (http://www.sport.de/n/RXUm03aw/) \n\n \n\n\n\n\nAnb
 ieter-Impressum: https://calovo.de/impressum (https://calovo.de/impressum)\
 n\n\ncalovo Kalender löschen? Anleitung: termine.de/ical/loeschen
X-ALT-DESC;FMTTYPE=text/html:Jahn Regensburg 4:0 (1:0) TSV 1860 München<br/><br/>Jahn Regensburg:<br/>Sa
 ller (69. Müller), Stolze (69. Schönfelder), Ziegele (50. Mätzler), Fein (8
 8. Dietz), Hottmann, Bauer, Gebhardt, Wurm, Hermes (88. Galjen), Eichinger,
  Strauß<br/><br/>TSV 1860 München:<br/>Volland (46. Niederlechner), Dähne, 
 Reinthaler, Christiansen (46. Maier), Jacobsen, Philipp (76. Hobsch), Rittm
 üller, Dulic, Haugen, Voet (90. Faßmann), Lippmann (76. Wolfram)<br/><br/>T
 ore:<br/>1:0 Hermes (32.)<br/>2:0 Wurm (75.)<br/>3:0 Eichinger (80.)<br/>4:
 0 Müller (85.)<br/><br/>AKTUELLE NEWS VON SPORT.DE<br/><br/> 	* DFB leitet 
 Ermittlungen nach Rassismusskandal ein <a href="http://www.sport.de/n/RXUm0
 3aw/">http://www.sport.de/n/RXUm03aw/</a> <br/><br/> <br/><br/><br/><br/><b
 r/>Anbieter-Impressum: <a href="https://calovo.de/impressum">https://calovo
 .de/impressum</a><br/><br/><br/>calovo Kalender löschen? Anleitung: termine
 .de/ical/loeschen
DTSTAMP:20260422T230702
DTSTART;TZID=Europe/Berlin:20251109T163000
DTEND;TZID=Europe/Berlin:20251109T183000
SEQUENCE:0
TRANSP:OPAQUE
END:VEVENT
END:VCALENDAR