BEGIN:VCALENDAR
VERSION:2.0
PRODID:-//jEvents 2.0 for Joomla//EN
CALSCALE:GREGORIAN
METHOD:PUBLISH
BEGIN:VTIMEZONE
TZID:Europe/Berlin
BEGIN:STANDARD
DTSTART:20241122T133000
RDATE:20250330T030000
TZOFFSETFROM:+0200
TZOFFSETTO:+0100
TZNAME:Europe/Berlin CET
END:STANDARD
BEGIN:STANDARD
DTSTART:20251026T020000
RDATE:20260329T030000
TZOFFSETFROM:+0200
TZOFFSETTO:+0100
TZNAME:Europe/Berlin CET
END:STANDARD
BEGIN:DAYLIGHT
DTSTART:20250330T030000
RDATE:20251026T020000
TZOFFSETFROM:+0100
TZOFFSETTO:+0200
TZNAME:Europe/Berlin CEST
END:DAYLIGHT
END:VTIMEZONE
BEGIN:VEVENT
UID:6867de991897b@82.calovo
CATEGORIES:TSV 1860 München
CREATED:20250921T100502
SUMMARY:M60 2:0 (1:0) 1. FC Saarbrücken
LOCATION:calovo.de | Stadion an der Grünwalder Straße (Stadion)\, München\, Deutschl
 and
DESCRIPTION:TSV 1860 München 2:0 (1:0) 1. FC Saarbrücken<br/><br/>TSV 1860 München:<br/
 >Dähne, Volland (68. Philipp), Reinthaler (90. Christiansen), Maier, Jacobs
 en, Hobsch, Rittmüller (87. Danhof), Dulic, Haugen (87. Niederlechner), Lip
 pmann, Voet<br/><br/>1. FC Saarbrücken:<br/>Rizzuto, Rabihic (78. Civeja), 
 Bormuth, Menzel, Pick, Brünker (29. Baumann), Fahrner, Elongo-Yombo (65. Sc
 hmidt), Wilhelm (78. Wollschläger), Krahn (78. Kamara), Bichsel<br/><br/>To
 re:<br/>1:0 Hobsch (13.)<br/>2:0 Jacobsen (90.)<br/><br/><br/><br/><br/><br
 />Anbieter-Impressum: <a href="https://calovo.de/impressum">https://calovo.
 de/impressum</a><br/><br/><br/>calovo Kalender löschen? Anleitung: termine.
 de/ical/loeschen
DTSTAMP:20260422T194533
DTSTART;TZID=Europe/Berlin:20251123T133000
DTEND;TZID=Europe/Berlin:20251123T153000
SEQUENCE:0
TRANSP:OPAQUE
END:VEVENT
END:VCALENDAR