BEGIN:VCALENDAR
VERSION:2.0
PRODID:-//jEvents 2.0 for Joomla//EN
CALSCALE:GREGORIAN
METHOD:PUBLISH
BEGIN:VTIMEZONE
TZID:Europe/Berlin
BEGIN:STANDARD
DTSTART:20241128T140000
RDATE:20250330T030000
TZOFFSETFROM:+0200
TZOFFSETTO:+0100
TZNAME:Europe/Berlin CET
END:STANDARD
BEGIN:STANDARD
DTSTART:20251026T020000
RDATE:20260329T030000
TZOFFSETFROM:+0200
TZOFFSETTO:+0100
TZNAME:Europe/Berlin CET
END:STANDARD
BEGIN:DAYLIGHT
DTSTART:20250330T030000
RDATE:20251026T020000
TZOFFSETFROM:+0100
TZOFFSETTO:+0200
TZNAME:Europe/Berlin CEST
END:DAYLIGHT
END:VTIMEZONE
BEGIN:VEVENT
UID:6867de9a13101@82.calovo
CATEGORIES:TSV 1860 München
CREATED:20250921T100502
SUMMARY:SSV Ulm 1846 0:1 (0:1) M60
LOCATION:calovo.de | Donaustadion (Stadion)\, Ulm\, Deutschland
DESCRIPTION:SSV Ulm 1846 0:1 (0:1) TSV 1860 München\n\nSSV Ulm 1846:\nChessa (85. Becke
 r), Röser (69. Besong), Ortag, Pepić (69. Löder), Seegert (85. Boller), Dre
 ssel, Dajaku (78. Aksakal), Kölle, Brandt, Scholze, Mazagg\n\nTSV 1860 Münc
 hen:\nDähne, Reinthaler, Maier, Jacobsen, Rittmüller (85. Danhof), Dulic, H
 augen (75. Niederlechner), Voet, Volland (75. Philipp), Hobsch, Lippmann\n\
 nTore:\n0:1 Haugen (1.)\n\nAKTUELLE NEWS VON SPORT.DE\n\n 	* H-Sohn-Eklat: 
 Löwen-Boss keilt gegen Bayern-Fans zurück http://www.sport.de/n/B7U6vMza/ (
 http://www.sport.de/n/B7U6vMza/) \n\n \n\n\n\n\nAnbieter-Impressum: https:/
 /calovo.de/impressum (https://calovo.de/impressum)\n\n\ncalovo Kalender lös
 chen? Anleitung: termine.de/ical/loeschen
X-ALT-DESC;FMTTYPE=text/html:SSV Ulm 1846 0:1 (0:1) TSV 1860 München<br/><br/>SSV Ulm 1846:<br/>Chessa (
 85. Becker), Röser (69. Besong), Ortag, Pepić (69. Löder), Seegert (85. Bol
 ler), Dressel, Dajaku (78. Aksakal), Kölle, Brandt, Scholze, Mazagg<br/><br
 />TSV 1860 München:<br/>Dähne, Reinthaler, Maier, Jacobsen, Rittmüller (85.
  Danhof), Dulic, Haugen (75. Niederlechner), Voet, Volland (75. Philipp), H
 obsch, Lippmann<br/><br/>Tore:<br/>0:1 Haugen (1.)<br/><br/>AKTUELLE NEWS V
 ON SPORT.DE<br/><br/> 	* H-Sohn-Eklat: Löwen-Boss keilt gegen Bayern-Fans z
 urück <a href="http://www.sport.de/n/B7U6vMza/">http://www.sport.de/n/B7U6v
 Mza/</a> <br/><br/> <br/><br/><br/><br/><br/>Anbieter-Impressum: <a href="h
 ttps://calovo.de/impressum">https://calovo.de/impressum</a><br/><br/><br/>c
 alovo Kalender löschen? Anleitung: termine.de/ical/loeschen
DTSTAMP:20260422T225032
DTSTART;TZID=Europe/Berlin:20251129T140000
DTEND;TZID=Europe/Berlin:20251129T160000
SEQUENCE:0
TRANSP:OPAQUE
END:VEVENT
END:VCALENDAR