BEGIN:VCALENDAR
VERSION:2.0
PRODID:-//jEvents 2.0 for Joomla//EN
CALSCALE:GREGORIAN
METHOD:PUBLISH
BEGIN:VTIMEZONE
TZID:Europe/Berlin
BEGIN:STANDARD
DTSTART:20241205T163000
RDATE:20250330T030000
TZOFFSETFROM:+0200
TZOFFSETTO:+0100
TZNAME:Europe/Berlin CET
END:STANDARD
BEGIN:STANDARD
DTSTART:20251026T020000
RDATE:20260329T030000
TZOFFSETFROM:+0200
TZOFFSETTO:+0100
TZNAME:Europe/Berlin CET
END:STANDARD
BEGIN:DAYLIGHT
DTSTART:20250330T030000
RDATE:20251026T020000
TZOFFSETFROM:+0100
TZOFFSETTO:+0200
TZNAME:Europe/Berlin CEST
END:DAYLIGHT
END:VTIMEZONE
BEGIN:VEVENT
UID:6867de9d21a7f@82.calovo
CATEGORIES:TSV 1860 München
CREATED:20250921T100502
SUMMARY:M60 3:1 (1:1) 1. FC Schweinfurt 05
LOCATION:calovo.de | Stadion an der Grünwalder Straße (Stadion)\, München\, Deutschl
 and
DESCRIPTION:TSV 1860 München 3:1 (1:1) 1. FC Schweinfurt 05<br/><br/>TSV 1860 München:<
 br/>Dähne, Voet, Jacobsen, Reinthaler, Haugen (90. Althaus), Dulic, Maier, 
 Rittmüller (77. Danhof), Volland (90. Philipp), Hobsch (77. Niederlechner),
  Lippmann<br/><br/>1. FC Schweinfurt 05:<br/>Stahl, Doktorczyk (67. Langhan
 s), Zeller, Meißner, Çelebi (89. Ibisi), Böhnlein, Tranziska, Krätschmer, W
 intzheimer (77. Shuranov), Geis (77. Obiogumu), Endres (77. Bausenwein)<br/
 ><br/>Tore:<br/>1:0 Doktorczyk (33.)<br/>1:1 Tranziska (45.)<br/>2:1 Meißne
 r (57.)<br/>3:1 Rittmüller (69.)<br/><br/><br/><br/><br/><br/>Anbieter-Impr
 essum: <a href="https://calovo.de/impressum">https://calovo.de/impressum</a
 ><br/><br/><br/>calovo Kalender löschen? Anleitung: termine.de/ical/loesche
 n
DTSTAMP:20260422T194533
DTSTART;TZID=Europe/Berlin:20251206T163000
DTEND;TZID=Europe/Berlin:20251206T183000
SEQUENCE:0
TRANSP:OPAQUE
END:VEVENT
END:VCALENDAR