BEGIN:VCALENDAR
VERSION:2.0
PRODID:-//jEvents 2.0 for Joomla//EN
CALSCALE:GREGORIAN
METHOD:PUBLISH
BEGIN:VTIMEZONE
TZID:Europe/Berlin
BEGIN:STANDARD
DTSTART:20241212T140000
RDATE:20250330T030000
TZOFFSETFROM:+0200
TZOFFSETTO:+0100
TZNAME:Europe/Berlin CET
END:STANDARD
BEGIN:STANDARD
DTSTART:20251026T020000
RDATE:20260329T030000
TZOFFSETFROM:+0200
TZOFFSETTO:+0100
TZNAME:Europe/Berlin CET
END:STANDARD
BEGIN:DAYLIGHT
DTSTART:20250330T030000
RDATE:20251026T020000
TZOFFSETFROM:+0100
TZOFFSETTO:+0200
TZNAME:Europe/Berlin CEST
END:DAYLIGHT
END:VTIMEZONE
BEGIN:VEVENT
UID:6867de9e1ce72@82.calovo
CATEGORIES:TSV 1860 München
CREATED:20250921T100502
SUMMARY:FC Ingolstadt 04 1:2 (1:1) M60
LOCATION:calovo.de | Audi Sportpark (Stadion)\, Ingolstadt\, Deutschland
DESCRIPTION:FC Ingolstadt 04 1:2 (1:1) TSV 1860 München\n\nFC Ingolstadt 04:\nEisele, H
 oppe (85. Maljojoki), Kaygın (77. Fröde), Plath (85. Sekulovic), Sturm (85.
  Öztürk), Scholz, Besuschkow, Costly, Christensen, Drakulic (62. Borchers),
  Lorenz\n\nTSV 1860 München:\nDähne, Voet, Jacobsen, Reinthaler, Haugen (81
 . Niederlechner), Dulic, Maier, Volland, Rittmüller, Lippmann (90. Jakob), 
 Hobsch (81. Christiansen)\n\nTore:\n1:0 Kaygın (20.)\n1:1 Haugen (41.)\n1:2
  Hobsch (58.)\n\n\n\n\n\nAnbieter-Impressum: https://calovo.de/impressum (h
 ttps://calovo.de/impressum)\n\n\ncalovo Kalender löschen? Anleitung: termin
 e.de/ical/loeschen
X-ALT-DESC;FMTTYPE=text/html:FC Ingolstadt 04 1:2 (1:1) TSV 1860 München<br/><br/>FC Ingolstadt 04:<br/>
 Eisele, Hoppe (85. Maljojoki), Kaygın (77. Fröde), Plath (85. Sekulovic), S
 turm (85. Öztürk), Scholz, Besuschkow, Costly, Christensen, Drakulic (62. B
 orchers), Lorenz<br/><br/>TSV 1860 München:<br/>Dähne, Voet, Jacobsen, Rein
 thaler, Haugen (81. Niederlechner), Dulic, Maier, Volland, Rittmüller, Lipp
 mann (90. Jakob), Hobsch (81. Christiansen)<br/><br/>Tore:<br/>1:0 Kaygın (
 20.)<br/>1:1 Haugen (41.)<br/>1:2 Hobsch (58.)<br/><br/><br/><br/><br/><br/
 >Anbieter-Impressum: <a href="https://calovo.de/impressum">https://calovo.d
 e/impressum</a><br/><br/><br/>calovo Kalender löschen? Anleitung: termine.d
 e/ical/loeschen
DTSTAMP:20260422T230701
DTSTART;TZID=Europe/Berlin:20251213T140000
DTEND;TZID=Europe/Berlin:20251213T160000
SEQUENCE:0
TRANSP:OPAQUE
END:VEVENT
END:VCALENDAR