BEGIN:VCALENDAR
VERSION:2.0
PRODID:-//jEvents 2.0 for Joomla//EN
CALSCALE:GREGORIAN
METHOD:PUBLISH
BEGIN:VTIMEZONE
TZID:Europe/Berlin
BEGIN:STANDARD
DTSTART:20241219T163000
RDATE:20250330T030000
TZOFFSETFROM:+0200
TZOFFSETTO:+0100
TZNAME:Europe/Berlin CET
END:STANDARD
BEGIN:STANDARD
DTSTART:20251026T020000
RDATE:20260329T030000
TZOFFSETFROM:+0200
TZOFFSETTO:+0100
TZNAME:Europe/Berlin CET
END:STANDARD
BEGIN:DAYLIGHT
DTSTART:20250330T030000
RDATE:20251026T020000
TZOFFSETFROM:+0100
TZOFFSETTO:+0200
TZNAME:Europe/Berlin CEST
END:DAYLIGHT
END:VTIMEZONE
BEGIN:VEVENT
UID:6867dea19d728@82.calovo
CATEGORIES:TSV 1860 München
CREATED:20250921T100502
SUMMARY:M60 0:2 (0:1) SC Verl
LOCATION:calovo.de | Stadion an der Grünwalder Straße (Stadion)\, München\, Deutschl
 and
DESCRIPTION:TSV 1860 München 0:2 (0:1) SC Verl\n\nTSV 1860 München:\nDähne, Jacobsen, N
 iederlechner (68. Wolfram), Philipp, Reinthaler, Jakob, Dulic, Maier (81. A
 lthaus), Rittmüller (68. Danhof), Hobsch (81. Steinkötter), Lippmann\n\nSC 
 Verl:\nSchulze, Ens, Eze, Waidner, Taz, Kijewski (87. Knost), Mhamdi (87. S
 töcker), Besio (81. Stark), Otto (73. Arweiler), Gayret (87. Wessig), Otto\
 n\nTore:\n0:1 Mhamdi (12.)\n0:2 Besio (76.)\n\nAKTUELLE NEWS VON SPORT.DE\n
 \n 	* MSV Duisburg verpasst Sprung an die Spitze http://www.sport.de/n/B7U6
 D3Gj/ (http://www.sport.de/n/B7U6D3Gj/) \n\n \n\n\n\n\nAnbieter-Impressum: 
 https://calovo.de/impressum (https://calovo.de/impressum)\n\n\ncalovo Kalen
 der löschen? Anleitung: termine.de/ical/loeschen
X-ALT-DESC;FMTTYPE=text/html:TSV 1860 München 0:2 (0:1) SC Verl<br/><br/>TSV 1860 München:<br/>Dähne, Ja
 cobsen, Niederlechner (68. Wolfram), Philipp, Reinthaler, Jakob, Dulic, Mai
 er (81. Althaus), Rittmüller (68. Danhof), Hobsch (81. Steinkötter), Lippma
 nn<br/><br/>SC Verl:<br/>Schulze, Ens, Eze, Waidner, Taz, Kijewski (87. Kno
 st), Mhamdi (87. Stöcker), Besio (81. Stark), Otto (73. Arweiler), Gayret (
 87. Wessig), Otto<br/><br/>Tore:<br/>0:1 Mhamdi (12.)<br/>0:2 Besio (76.)<b
 r/><br/>AKTUELLE NEWS VON SPORT.DE<br/><br/> 	* MSV Duisburg verpasst Sprun
 g an die Spitze <a href="http://www.sport.de/n/B7U6D3Gj/">http://www.sport.
 de/n/B7U6D3Gj/</a> <br/><br/> <br/><br/><br/><br/><br/>Anbieter-Impressum: 
 <a href="https://calovo.de/impressum">https://calovo.de/impressum</a><br/><
 br/><br/>calovo Kalender löschen? Anleitung: termine.de/ical/loeschen
DTSTAMP:20260422T194440
DTSTART;TZID=Europe/Berlin:20251220T163000
DTEND;TZID=Europe/Berlin:20251220T183000
SEQUENCE:0
TRANSP:OPAQUE
END:VEVENT
END:VCALENDAR