BEGIN:VCALENDAR
VERSION:2.0
PRODID:-//jEvents 2.0 for Joomla//EN
CALSCALE:GREGORIAN
METHOD:PUBLISH
BEGIN:VTIMEZONE
TZID:Europe/Berlin
BEGIN:STANDARD
DTSTART:20250116T140000
RDATE:20250330T030000
TZOFFSETFROM:+0200
TZOFFSETTO:+0100
TZNAME:Europe/Berlin CET
END:STANDARD
BEGIN:STANDARD
DTSTART:20251026T020000
RDATE:20260329T030000
TZOFFSETFROM:+0200
TZOFFSETTO:+0100
TZNAME:Europe/Berlin CET
END:STANDARD
BEGIN:DAYLIGHT
DTSTART:20250330T030000
RDATE:20251026T020000
TZOFFSETFROM:+0100
TZOFFSETTO:+0200
TZNAME:Europe/Berlin CEST
END:DAYLIGHT
END:VTIMEZONE
BEGIN:VEVENT
UID:6867dea397ad5@82.calovo
CATEGORIES:TSV 1860 München
CREATED:20250921T100502
SUMMARY:M60 1:1 (0:0) Rot-Weiss Essen
LOCATION:calovo.de | Stadion an der Grünwalder Straße (Stadion)\, München\, Deutschl
 and
DESCRIPTION:TSV 1860 München 1:1 (0:0) Rot-Weiss Essen\n\nTSV 1860 München:\nVoet, Voll
 ath, Philipp (74. Danhof), Reinthaler, Jakob, Dordan (84. Steinkötter), Vol
 land, Maier, Hobsch, Lippmann, Schifferl\n\nRot-Weiss Essen:\nGolz, Schultz
 , Safi (81. Janssen), Kostka, Brumme (81. Bouebari), Schmidt (62. Obuz), Rí
 os-Alonso, Mizuta, Müsel (89. Kaiser), Swajkowski (89. Hüning), Kraulich\n\
 nTore:\n0:1 Obuz (82.)\n1:1 Reinthaler (90.)\n\nAKTUELLE NEWS VON SPORT.DE\
 n\n 	* Exklusiv: 1860 lehnt Dulic-Anfrage ab http://www.sport.de/n/PXUwqRkX
 / (http://www.sport.de/n/PXUwqRkX/) \n\n \n\n\n\n\nAnbieter-Impressum: http
 s://calovo.de/impressum (https://calovo.de/impressum)\n\n\ncalovo Kalender 
 löschen? Anleitung: termine.de/ical/loeschen
X-ALT-DESC;FMTTYPE=text/html:TSV 1860 München 1:1 (0:0) Rot-Weiss Essen<br/><br/>TSV 1860 München:<br/>V
 oet, Vollath, Philipp (74. Danhof), Reinthaler, Jakob, Dordan (84. Steinköt
 ter), Volland, Maier, Hobsch, Lippmann, Schifferl<br/><br/>Rot-Weiss Essen:
 <br/>Golz, Schultz, Safi (81. Janssen), Kostka, Brumme (81. Bouebari), Schm
 idt (62. Obuz), Ríos-Alonso, Mizuta, Müsel (89. Kaiser), Swajkowski (89. Hü
 ning), Kraulich<br/><br/>Tore:<br/>0:1 Obuz (82.)<br/>1:1 Reinthaler (90.)<
 br/><br/>AKTUELLE NEWS VON SPORT.DE<br/><br/> 	* Exklusiv: 1860 lehnt Dulic
 -Anfrage ab <a href="http://www.sport.de/n/PXUwqRkX/">http://www.sport.de/n
 /PXUwqRkX/</a> <br/><br/> <br/><br/><br/><br/><br/>Anbieter-Impressum: <a h
 ref="https://calovo.de/impressum">https://calovo.de/impressum</a><br/><br/>
 <br/>calovo Kalender löschen? Anleitung: termine.de/ical/loeschen
DTSTAMP:20260422T180050
DTSTART;TZID=Europe/Berlin:20260117T140000
DTEND;TZID=Europe/Berlin:20260117T160000
SEQUENCE:0
TRANSP:OPAQUE
END:VEVENT
END:VCALENDAR