BEGIN:VCALENDAR
VERSION:2.0
PRODID:-//jEvents 2.0 for Joomla//EN
CALSCALE:GREGORIAN
METHOD:PUBLISH
BEGIN:VTIMEZONE
TZID:Europe/Berlin
BEGIN:STANDARD
DTSTART:20250124T163000
RDATE:20250330T030000
TZOFFSETFROM:+0200
TZOFFSETTO:+0100
TZNAME:Europe/Berlin CET
END:STANDARD
BEGIN:STANDARD
DTSTART:20251026T020000
RDATE:20260329T030000
TZOFFSETFROM:+0200
TZOFFSETTO:+0100
TZNAME:Europe/Berlin CET
END:STANDARD
BEGIN:DAYLIGHT
DTSTART:20250330T030000
RDATE:20251026T020000
TZOFFSETFROM:+0100
TZOFFSETTO:+0200
TZNAME:Europe/Berlin CEST
END:DAYLIGHT
END:VTIMEZONE
BEGIN:VEVENT
UID:6867dea53f1f4@82.calovo
CATEGORIES:TSV 1860 München
CREATED:20250921T100502
SUMMARY:VfL Osnabrück 1:1 (1:1) M60
LOCATION:calovo.de | Bremer Brücke (Stadion)\, Osnabrück\, Deutschland
DESCRIPTION:VfL Osnabrück 1:1 (1:1) TSV 1860 München<br/><br/>VfL Osnabrück:<br/>Jonsso
 n, Karademir, Henning (59. Wagner), Kania (59. Badjie), Meißner, Jacobsen, 
 Kehl (86. Ihorst), Lesueur (74. Kopacz), Müller, Wiemann, Kammerbauer (86. 
 Pröger)<br/><br/>TSV 1860 München:<br/>Dähne, Voet, Jacobsen, Philipp (70. 
 Steinkötter), Reinthaler, Jakob, Maier, Volland (90. Danhof), Hobsch, Schif
 ferl, Lippmann (70. Rittmüller)<br/><br/>Tore:<br/>1:0 Jacobsen (17.)<br/>1
 :1 Volland (25.)<br/><br/>AKTUELLE NEWS VON SPORT.DE<br/><br/> 	* Verl stür
 mt mit Kantersieg an die Spitze <a href="http://www.sport.de/n/8dUdjQWE/">h
 ttp://www.sport.de/n/8dUdjQWE/</a> <br/><br/> <br/><br/><br/><br/><br/>Anbi
 eter-Impressum: <a href="https://calovo.de/impressum">https://calovo.de/imp
 ressum</a><br/><br/><br/>calovo Kalender löschen? Anleitung: termine.de/ica
 l/loeschen
DTSTAMP:20260422T180244
DTSTART;TZID=Europe/Berlin:20260125T163000
DTEND;TZID=Europe/Berlin:20260125T183000
SEQUENCE:0
TRANSP:OPAQUE
END:VEVENT
END:VCALENDAR