BEGIN:VCALENDAR
VERSION:2.0
PRODID:-//jEvents 2.0 for Joomla//EN
CALSCALE:GREGORIAN
METHOD:PUBLISH
BEGIN:VTIMEZONE
TZID:Europe/Berlin
BEGIN:STANDARD
DTSTART:20250130T140000
RDATE:20250330T030000
TZOFFSETFROM:+0200
TZOFFSETTO:+0100
TZNAME:Europe/Berlin CET
END:STANDARD
BEGIN:STANDARD
DTSTART:20251026T020000
RDATE:20260329T030000
TZOFFSETFROM:+0200
TZOFFSETTO:+0100
TZNAME:Europe/Berlin CET
END:STANDARD
BEGIN:DAYLIGHT
DTSTART:20250330T030000
RDATE:20251026T020000
TZOFFSETFROM:+0100
TZOFFSETTO:+0200
TZNAME:Europe/Berlin CEST
END:DAYLIGHT
END:VTIMEZONE
BEGIN:VEVENT
UID:6867dea749bfb@82.calovo
CATEGORIES:TSV 1860 München
CREATED:20250921T100502
SUMMARY:M60 2:2 (1:1) Alemannia Aachen
LOCATION:calovo.de | Stadion an der Grünwalder Straße (Stadion)\, München\, Deutschl
 and
DESCRIPTION:TSV 1860 München 2:2 (1:1) Alemannia Aachen\n\nTSV 1860 München:\nDähne, Vo
 et, Jacobsen, Philipp (72. Steinkötter), Reinthaler, Jakob (46. Rittmüller)
 , Maier (46. Dordan), Volland, Hobsch (72. Haugen), Schifferl, Lippmann\n\n
 Alemannia Aachen:\nPseftis, Bagalianis, Scepanik, Gaudino (84. Yarbrough), 
 Loune (83. Bahn), Gindorf, Schroers (88. Castelle), Wiebe, Nadjombe, Wegman
 n, Ademi (88. Wriedt)\n\nTore:\n0:1 Gindorf (18.)\n1:1 Maier (22.)\n2:1 Jac
 obsen (54.)\n2:2 Schroers (61.)\n\n\n\n\n\nAnbieter-Impressum: https://calo
 vo.de/impressum (https://calovo.de/impressum)\n\n\ncalovo Kalender löschen?
  Anleitung: termine.de/ical/loeschen
X-ALT-DESC;FMTTYPE=text/html:TSV 1860 München 2:2 (1:1) Alemannia Aachen<br/><br/>TSV 1860 München:<br/>
 Dähne, Voet, Jacobsen, Philipp (72. Steinkötter), Reinthaler, Jakob (46. Ri
 ttmüller), Maier (46. Dordan), Volland, Hobsch (72. Haugen), Schifferl, Lip
 pmann<br/><br/>Alemannia Aachen:<br/>Pseftis, Bagalianis, Scepanik, Gaudino
  (84. Yarbrough), Loune (83. Bahn), Gindorf, Schroers (88. Castelle), Wiebe
 , Nadjombe, Wegmann, Ademi (88. Wriedt)<br/><br/>Tore:<br/>0:1 Gindorf (18.
 )<br/>1:1 Maier (22.)<br/>2:1 Jacobsen (54.)<br/>2:2 Schroers (61.)<br/><br
 /><br/><br/><br/><br/>Anbieter-Impressum: <a href="https://calovo.de/impres
 sum">https://calovo.de/impressum</a><br/><br/><br/>calovo Kalender löschen?
  Anleitung: termine.de/ical/loeschen
DTSTAMP:20260422T180150
DTSTART;TZID=Europe/Berlin:20260131T140000
DTEND;TZID=Europe/Berlin:20260131T160000
SEQUENCE:0
TRANSP:OPAQUE
END:VEVENT
END:VCALENDAR