BEGIN:VCALENDAR
VERSION:2.0
PRODID:-//jEvents 2.0 for Joomla//EN
CALSCALE:GREGORIAN
METHOD:PUBLISH
BEGIN:VTIMEZONE
TZID:Europe/Berlin
BEGIN:STANDARD
DTSTART:20250206T163000
RDATE:20250330T030000
TZOFFSETFROM:+0200
TZOFFSETTO:+0100
TZNAME:Europe/Berlin CET
END:STANDARD
BEGIN:STANDARD
DTSTART:20251026T020000
RDATE:20260329T030000
TZOFFSETFROM:+0200
TZOFFSETTO:+0100
TZNAME:Europe/Berlin CET
END:STANDARD
BEGIN:DAYLIGHT
DTSTART:20250330T030000
RDATE:20251026T020000
TZOFFSETFROM:+0100
TZOFFSETTO:+0200
TZNAME:Europe/Berlin CEST
END:DAYLIGHT
END:VTIMEZONE
BEGIN:VEVENT
UID:6867dea933127@82.calovo
CATEGORIES:TSV 1860 München
CREATED:20250921T100502
SUMMARY:VfB Stuttgart II 2:1 (2:0) M60
LOCATION:calovo.de | WIRmachenDRUCK Arena (Stadion)\, Aspach\, Deutschland
DESCRIPTION:VfB Stuttgart II 2:1 (2:0) TSV 1860 München\n\nVfB Stuttgart II:\nHellstern
 , Ćatović, Groiß, Penna (84. Herwerth), Sessa (70. Di Benedetto), Köhler, M
 eyer, Olivier (83. Lüers), Diehl (44. Spalt), Ouro-Tagba, Darvich\n\nTSV 18
 60 München:\nDähne, Voet, Jacobsen, Reinthaler, Haugen, Maier, Rittmüller (
 79. Danhof), Volland (79. Niederlechner), Hobsch (69. Steinkötter), Lippman
 n (79. Jakob), Husic (46. Wolfram)\n\nTore:\n1:0 Darvich (20.)\n2:0 Diehl (
 26.)\n2:1 Haugen (85.)\n\n\n\n\n\nAnbieter-Impressum: https://calovo.de/imp
 ressum (https://calovo.de/impressum)\n\n\ncalovo Kalender löschen? Anleitun
 g: termine.de/ical/loeschen
X-ALT-DESC;FMTTYPE=text/html:VfB Stuttgart II 2:1 (2:0) TSV 1860 München<br/><br/>VfB Stuttgart II:<br/>
 Hellstern, Ćatović, Groiß, Penna (84. Herwerth), Sessa (70. Di Benedetto), 
 Köhler, Meyer, Olivier (83. Lüers), Diehl (44. Spalt), Ouro-Tagba, Darvich<
 br/><br/>TSV 1860 München:<br/>Dähne, Voet, Jacobsen, Reinthaler, Haugen, M
 aier, Rittmüller (79. Danhof), Volland (79. Niederlechner), Hobsch (69. Ste
 inkötter), Lippmann (79. Jakob), Husic (46. Wolfram)<br/><br/>Tore:<br/>1:0
  Darvich (20.)<br/>2:0 Diehl (26.)<br/>2:1 Haugen (85.)<br/><br/><br/><br/>
 <br/><br/>Anbieter-Impressum: <a href="https://calovo.de/impressum">https:/
 /calovo.de/impressum</a><br/><br/><br/>calovo Kalender löschen? Anleitung: 
 termine.de/ical/loeschen
DTSTAMP:20260422T180058
DTSTART;TZID=Europe/Berlin:20260207T163000
DTEND;TZID=Europe/Berlin:20260207T183000
SEQUENCE:0
TRANSP:OPAQUE
END:VEVENT
END:VCALENDAR