BEGIN:VCALENDAR
VERSION:2.0
PRODID:-//jEvents 2.0 for Joomla//EN
CALSCALE:GREGORIAN
METHOD:PUBLISH
BEGIN:VTIMEZONE
TZID:Europe/Berlin
BEGIN:STANDARD
DTSTART:20250213T140000
RDATE:20250330T030000
TZOFFSETFROM:+0200
TZOFFSETTO:+0100
TZNAME:Europe/Berlin CET
END:STANDARD
BEGIN:STANDARD
DTSTART:20251026T020000
RDATE:20260329T030000
TZOFFSETFROM:+0200
TZOFFSETTO:+0100
TZNAME:Europe/Berlin CET
END:STANDARD
BEGIN:DAYLIGHT
DTSTART:20250330T030000
RDATE:20251026T020000
TZOFFSETFROM:+0100
TZOFFSETTO:+0200
TZNAME:Europe/Berlin CEST
END:DAYLIGHT
END:VTIMEZONE
BEGIN:VEVENT
UID:6867deab57317@82.calovo
CATEGORIES:TSV 1860 München
CREATED:20250921T100502
SUMMARY:TSV Havelse 0:5 (0:1) M60
LOCATION:calovo.de | Eilenriedestadion (Stadion)\, Hannover\, Deutschland
DESCRIPTION:TSV Havelse 0:5 (0:1) TSV 1860 München\n\nTSV Havelse:\nKolgeci, Opitz, Bel
 kahia, Düker, Paldino (83. Schepp), Berger, Duah (70. Riedel), Boujellab, I
 lic, Sommer (58. Polster), Rexhepi (58. Müller)\n\nTSV 1860 München:\nDähne
 , Danhof, Voet, Philipp (80. Wolfram), Jacobsen (69. Dordan), Reinthaler, H
 augen (87. Klose), Maier, Hobsch (80. Steinkötter), Schifferl (87. Faßmann)
 , Lippmann\n\nTore:\n0:1 Haugen (29.)\n0:2 Hobsch (53.)\n0:3 Lippmann (60.)
 \n0:4 Steinkötter (83.)\n0:5 Maier (88.)\n\n\n\n\n\nAnbieter-Impressum: htt
 ps://calovo.de/impressum (https://calovo.de/impressum)\n\n\ncalovo Kalender
  löschen? Anleitung: termine.de/ical/loeschen
X-ALT-DESC;FMTTYPE=text/html:TSV Havelse 0:5 (0:1) TSV 1860 München<br/><br/>TSV Havelse:<br/>Kolgeci, O
 pitz, Belkahia, Düker, Paldino (83. Schepp), Berger, Duah (70. Riedel), Bou
 jellab, Ilic, Sommer (58. Polster), Rexhepi (58. Müller)<br/><br/>TSV 1860 
 München:<br/>Dähne, Danhof, Voet, Philipp (80. Wolfram), Jacobsen (69. Dord
 an), Reinthaler, Haugen (87. Klose), Maier, Hobsch (80. Steinkötter), Schif
 ferl (87. Faßmann), Lippmann<br/><br/>Tore:<br/>0:1 Haugen (29.)<br/>0:2 Ho
 bsch (53.)<br/>0:3 Lippmann (60.)<br/>0:4 Steinkötter (83.)<br/>0:5 Maier (
 88.)<br/><br/><br/><br/><br/><br/>Anbieter-Impressum: <a href="https://calo
 vo.de/impressum">https://calovo.de/impressum</a><br/><br/><br/>calovo Kalen
 der löschen? Anleitung: termine.de/ical/loeschen
DTSTAMP:20260422T180204
DTSTART;TZID=Europe/Berlin:20260214T140000
DTEND;TZID=Europe/Berlin:20260214T160000
SEQUENCE:0
TRANSP:OPAQUE
END:VEVENT
END:VCALENDAR