BEGIN:VCALENDAR
VERSION:2.0
PRODID:-//jEvents 2.0 for Joomla//EN
CALSCALE:GREGORIAN
METHOD:PUBLISH
BEGIN:VTIMEZONE
TZID:Europe/Berlin
BEGIN:STANDARD
DTSTART:20250221T133000
RDATE:20250330T030000
TZOFFSETFROM:+0200
TZOFFSETTO:+0100
TZNAME:Europe/Berlin CET
END:STANDARD
BEGIN:STANDARD
DTSTART:20251026T020000
RDATE:20260329T030000
TZOFFSETFROM:+0200
TZOFFSETTO:+0100
TZNAME:Europe/Berlin CET
END:STANDARD
BEGIN:DAYLIGHT
DTSTART:20250330T030000
RDATE:20251026T020000
TZOFFSETFROM:+0100
TZOFFSETTO:+0200
TZNAME:Europe/Berlin CEST
END:DAYLIGHT
END:VTIMEZONE
BEGIN:VEVENT
UID:6867deac59e4e@82.calovo
CATEGORIES:TSV 1860 München
CREATED:20250921T100502
SUMMARY:M60 1:0 (0:0) Hansa Rostock
LOCATION:calovo.de | Stadion an der Grünwalder Straße (Stadion)\, München\, Deutschl
 and
DESCRIPTION:TSV 1860 München 1:0 (0:0) Hansa Rostock\n\nTSV 1860 München:\nDähne, Jacob
 sen (76. Dordan), Voet, Philipp (76. Steinkötter), Reinthaler, Haugen (90. 
 Hobsch), Maier, Volland (83. Rittmüller), Schifferl, Danhof, Lippmann\n\nHa
 nsa Rostock:\nUphoff, Fatkić (80. Lebeau), Schuster, Voglsammer, Holten, Gü
 rleyen, Carstens, Mejdr (66. Krauß), Kinsombi, Bergh (66. Wallner), Dietze 
 (85. Hummel)\n\nTore:\n1:0 Jacobsen (48.)\n\n\n\n\n\nAnbieter-Impressum: ht
 tps://calovo.de/impressum (https://calovo.de/impressum)\n\n\ncalovo Kalende
 r löschen? Anleitung: termine.de/ical/loeschen
X-ALT-DESC;FMTTYPE=text/html:TSV 1860 München 1:0 (0:0) Hansa Rostock<br/><br/>TSV 1860 München:<br/>Däh
 ne, Jacobsen (76. Dordan), Voet, Philipp (76. Steinkötter), Reinthaler, Hau
 gen (90. Hobsch), Maier, Volland (83. Rittmüller), Schifferl, Danhof, Lippm
 ann<br/><br/>Hansa Rostock:<br/>Uphoff, Fatkić (80. Lebeau), Schuster, Vogl
 sammer, Holten, Gürleyen, Carstens, Mejdr (66. Krauß), Kinsombi, Bergh (66.
  Wallner), Dietze (85. Hummel)<br/><br/>Tore:<br/>1:0 Jacobsen (48.)<br/><b
 r/><br/><br/><br/><br/>Anbieter-Impressum: <a href="https://calovo.de/impre
 ssum">https://calovo.de/impressum</a><br/><br/><br/>calovo Kalender löschen
 ? Anleitung: termine.de/ical/loeschen
DTSTAMP:20260422T180200
DTSTART;TZID=Europe/Berlin:20260222T133000
DTEND;TZID=Europe/Berlin:20260222T153000
SEQUENCE:0
TRANSP:OPAQUE
END:VEVENT
END:VCALENDAR