BEGIN:VCALENDAR
VERSION:2.0
PRODID:-//jEvents 2.0 for Joomla//EN
CALSCALE:GREGORIAN
METHOD:PUBLISH
BEGIN:VTIMEZONE
TZID:Europe/Berlin
BEGIN:STANDARD
DTSTART:20250226T190000
RDATE:20250330T030000
TZOFFSETFROM:+0200
TZOFFSETTO:+0100
TZNAME:Europe/Berlin CET
END:STANDARD
BEGIN:STANDARD
DTSTART:20251026T020000
RDATE:20260329T030000
TZOFFSETFROM:+0200
TZOFFSETTO:+0100
TZNAME:Europe/Berlin CET
END:STANDARD
BEGIN:DAYLIGHT
DTSTART:20250330T030000
RDATE:20251026T020000
TZOFFSETFROM:+0100
TZOFFSETTO:+0200
TZNAME:Europe/Berlin CEST
END:DAYLIGHT
END:VTIMEZONE
BEGIN:VEVENT
UID:6867deaecfc8d@82.calovo
CATEGORIES:TSV 1860 München
CREATED:20250921T100502
SUMMARY:1899 Hoffenheim II 1:2 (1:1) M60
LOCATION:calovo.de | Dietmar-Hopp-Stadion (Stadion)\, Sinsheim\, Deutschland
DESCRIPTION:1899 Hoffenheim II 1:2 (1:1) TSV 1860 München\n\n1899 Hoffenheim II:\nPeter
 sson, Lässig, Hennrich (82. El-Jindaoui), Micheler (68. Dağdeviren), Abraha
  (69. Bähr), Hör, Engelns, Erlein, Zeitler (77. Llugiqi), Opoku (69. Hencke
 ), Lührs\n\nTSV 1860 München:\nDähne, Danhof (66. Schröter), Voet, Jacobsen
 , Philipp (65. Steinkötter), Reinthaler, Maier (75. Dordan), Volland (88. H
 obsch), Schifferl, Lippmann, Haugen\n\nTore:\n0:1 Philipp (2.)\n1:1 Michele
 r (25.)\n1:2 Haugen (63.)\n\n\n\n\n\nAnbieter-Impressum: https://calovo.de/
 impressum (https://calovo.de/impressum)\n\n\ncalovo Kalender löschen? Anlei
 tung: termine.de/ical/loeschen
X-ALT-DESC;FMTTYPE=text/html:1899 Hoffenheim II 1:2 (1:1) TSV 1860 München<br/><br/>1899 Hoffenheim II:<
 br/>Petersson, Lässig, Hennrich (82. El-Jindaoui), Micheler (68. Dağdeviren
 ), Abraha (69. Bähr), Hör, Engelns, Erlein, Zeitler (77. Llugiqi), Opoku (6
 9. Hencke), Lührs<br/><br/>TSV 1860 München:<br/>Dähne, Danhof (66. Schröte
 r), Voet, Jacobsen, Philipp (65. Steinkötter), Reinthaler, Maier (75. Dorda
 n), Volland (88. Hobsch), Schifferl, Lippmann, Haugen<br/><br/>Tore:<br/>0:
 1 Philipp (2.)<br/>1:1 Micheler (25.)<br/>1:2 Haugen (63.)<br/><br/><br/><b
 r/><br/><br/>Anbieter-Impressum: <a href="https://calovo.de/impressum">http
 s://calovo.de/impressum</a><br/><br/><br/>calovo Kalender löschen? Anleitun
 g: termine.de/ical/loeschen
DTSTAMP:20260422T180053
DTSTART;TZID=Europe/Berlin:20260227T190000
DTEND;TZID=Europe/Berlin:20260227T210000
SEQUENCE:0
TRANSP:OPAQUE
END:VEVENT
END:VCALENDAR