BEGIN:VCALENDAR
VERSION:2.0
PRODID:-//jEvents 2.0 for Joomla//EN
CALSCALE:GREGORIAN
METHOD:PUBLISH
BEGIN:VTIMEZONE
TZID:Europe/Berlin
BEGIN:STANDARD
DTSTART:20250302T190000
RDATE:20250330T030000
TZOFFSETFROM:+0200
TZOFFSETTO:+0100
TZNAME:Europe/Berlin CET
END:STANDARD
BEGIN:STANDARD
DTSTART:20251026T020000
RDATE:20260329T030000
TZOFFSETFROM:+0200
TZOFFSETTO:+0100
TZNAME:Europe/Berlin CET
END:STANDARD
BEGIN:DAYLIGHT
DTSTART:20250330T030000
RDATE:20251026T020000
TZOFFSETFROM:+0100
TZOFFSETTO:+0200
TZNAME:Europe/Berlin CEST
END:DAYLIGHT
END:VTIMEZONE
BEGIN:VEVENT
UID:6867deaf62ec4@82.calovo
CATEGORIES:TSV 1860 München
CREATED:20250921T100502
SUMMARY:M60 2:1 (1:1) Erzgebirge Aue
LOCATION:calovo.de | Stadion an der Grünwalder Straße (Stadion)\, München\, Deutschl
 and
DESCRIPTION:TSV 1860 München 2:1 (1:1) Erzgebirge Aue\n\nTSV 1860 München:\nDähne, Danh
 of, Voet, Jacobsen, Reinthaler, Haugen (89. Niederlechner), Dordan, Rittmül
 ler (81. Lippmann), Wolfram (67. Steinkötter), Volland (81. Hobsch), Schiff
 erl\n\nErzgebirge Aue:\nMännel, Simnica (80. Fabisch), Günther-Schmidt (64.
  Ocansey), Uhlmann, Bär, Malone, Fallmann, Guttau (80. Weinhauer), Ehlers, 
 Collins, Stefaniak (74. Clausen)\n\nTore:\n1:0 Wolfram (7.)\n1:1 Bär (12.)\
 n2:1 Haugen (50.)\n\n\n\n\n\nAnbieter-Impressum: https://calovo.de/impressu
 m (https://calovo.de/impressum)\n\n\ncalovo Kalender löschen? Anleitung: te
 rmine.de/ical/loeschen
X-ALT-DESC;FMTTYPE=text/html:TSV 1860 München 2:1 (1:1) Erzgebirge Aue<br/><br/>TSV 1860 München:<br/>Dä
 hne, Danhof, Voet, Jacobsen, Reinthaler, Haugen (89. Niederlechner), Dordan
 , Rittmüller (81. Lippmann), Wolfram (67. Steinkötter), Volland (81. Hobsch
 ), Schifferl<br/><br/>Erzgebirge Aue:<br/>Männel, Simnica (80. Fabisch), Gü
 nther-Schmidt (64. Ocansey), Uhlmann, Bär, Malone, Fallmann, Guttau (80. We
 inhauer), Ehlers, Collins, Stefaniak (74. Clausen)<br/><br/>Tore:<br/>1:0 W
 olfram (7.)<br/>1:1 Bär (12.)<br/>2:1 Haugen (50.)<br/><br/><br/><br/><br/>
 <br/>Anbieter-Impressum: <a href="https://calovo.de/impressum">https://calo
 vo.de/impressum</a><br/><br/><br/>calovo Kalender löschen? Anleitung: termi
 ne.de/ical/loeschen
DTSTAMP:20260422T180139
DTSTART;TZID=Europe/Berlin:20260303T190000
DTEND;TZID=Europe/Berlin:20260303T210000
SEQUENCE:0
TRANSP:OPAQUE
END:VEVENT
END:VCALENDAR