BEGIN:VCALENDAR
VERSION:2.0
PRODID:-//jEvents 2.0 for Joomla//EN
CALSCALE:GREGORIAN
METHOD:PUBLISH
BEGIN:VTIMEZONE
TZID:Europe/Berlin
BEGIN:STANDARD
DTSTART:20250313T163000
RDATE:20250330T030000
TZOFFSETFROM:+0200
TZOFFSETTO:+0100
TZNAME:Europe/Berlin CET
END:STANDARD
BEGIN:STANDARD
DTSTART:20251026T020000
RDATE:20260329T030000
TZOFFSETFROM:+0200
TZOFFSETTO:+0100
TZNAME:Europe/Berlin CET
END:STANDARD
BEGIN:DAYLIGHT
DTSTART:20250330T030000
RDATE:20251026T020000
TZOFFSETFROM:+0100
TZOFFSETTO:+0200
TZNAME:Europe/Berlin CEST
END:DAYLIGHT
END:VTIMEZONE
BEGIN:VEVENT
UID:6867deb36b837@82.calovo
CATEGORIES:TSV 1860 München
CREATED:20250921T100503
SUMMARY:M60 0:0 (0:0) SV Wehen Wiesbaden
LOCATION:calovo.de | Stadion an der Grünwalder Straße (Stadion)\, München\, Deutschl
 and
DESCRIPTION:TSV 1860 München 0:0 (0:0) SV Wehen Wiesbaden<br/><br/>TSV 1860 München:<br
 />Dähne, Danhof, Voet, Reinthaler, Haugen (89. Steinkötter), Dordan (74. Hu
 sic), Maier, Rittmüller, Wolfram (74. Philipp), Volland, Faßmann<br/><br/>S
 V Wehen Wiesbaden:<br/>Brdar, Mockenhaupt, Fechner, Gözüsirin, Janitzek, Gr
 eilinger, Johansson (68. Kalem), Neubert (87. David Suárez), Gillekens, Flo
 tho (80. Agrafiotis), Kaya (88. Schleimer)<br/><br/><br/><br/><br/><br/><br
 />Anbieter-Impressum: <a href="https://calovo.de/impressum">https://calovo.
 de/impressum</a><br/><br/><br/>calovo Kalender löschen? Anleitung: termine.
 de/ical/loeschen
DTSTAMP:20260422T174124
DTSTART;TZID=Europe/Berlin:20260314T163000
DTEND;TZID=Europe/Berlin:20260314T183000
SEQUENCE:0
TRANSP:OPAQUE
END:VEVENT
END:VCALENDAR