BEGIN:VCALENDAR
VERSION:2.0
PRODID:-//jEvents 2.0 for Joomla//EN
CALSCALE:GREGORIAN
METHOD:PUBLISH
BEGIN:VTIMEZONE
TZID:Europe/Berlin
BEGIN:STANDARD
DTSTART:20250321T163000
RDATE:20250330T030000
TZOFFSETFROM:+0200
TZOFFSETTO:+0100
TZNAME:Europe/Berlin CET
END:STANDARD
BEGIN:STANDARD
DTSTART:20251026T020000
RDATE:20260329T030000
TZOFFSETFROM:+0200
TZOFFSETTO:+0100
TZNAME:Europe/Berlin CET
END:STANDARD
BEGIN:DAYLIGHT
DTSTART:20250330T030000
RDATE:20251026T020000
TZOFFSETFROM:+0100
TZOFFSETTO:+0200
TZNAME:Europe/Berlin CEST
END:DAYLIGHT
END:VTIMEZONE
BEGIN:VEVENT
UID:6867deb60c8ce@82.calovo
CATEGORIES:TSV 1860 München
CREATED:20250921T100503
SUMMARY:MSV Duisburg 2:1 (0:0) M60
LOCATION:calovo.de | Schauinsland-Reisen-Arena (Stadion)\, Duisburg\, Deutschland
DESCRIPTION:MSV Duisburg 2:1 (0:0) TSV 1860 München<br/><br/>MSV Duisburg:<br/>Braune, 
 Fleckstein, Casar, Noß (67. Viet), Meuer (81. Tugbenyo), Jessen (82. Symall
 a), Krüger (67. Töpken), Coskun, Bitter, Schlicke, Lobinger (82. Kother)<br
 /><br/>TSV 1860 München:<br/>Dähne, Danhof (90. Schröter), Voet, Jacobsen, 
 Steinkötter (77. Philipp), Reinthaler, Haugen, Maier, Volland (86. Hobsch),
  Faßmann, Lippmann<br/><br/>Tore:<br/>1:0 Bitter (60.)<br/>1:1 Jacobsen (69
 .)<br/>2:1 Töpken (90.)<br/><br/><br/><br/><br/><br/>Anbieter-Impressum: <a
  href="https://calovo.de/impressum">https://calovo.de/impressum</a><br/><br
 /><br/>calovo Kalender löschen? Anleitung: termine.de/ical/loeschen
DTSTAMP:20260422T174124
DTSTART;TZID=Europe/Berlin:20260322T163000
DTEND;TZID=Europe/Berlin:20260322T183000
SEQUENCE:0
TRANSP:OPAQUE
END:VEVENT
END:VCALENDAR