BEGIN:VCALENDAR
VERSION:2.0
PRODID:-//jEvents 2.0 for Joomla//EN
CALSCALE:GREGORIAN
METHOD:PUBLISH
BEGIN:VTIMEZONE
TZID:Europe/Berlin
BEGIN:STANDARD
DTSTART:20251026T020000
RDATE:20260329T030000
TZOFFSETFROM:+0200
TZOFFSETTO:+0100
TZNAME:Europe/Berlin CET
END:STANDARD
BEGIN:DAYLIGHT
DTSTART:20250403T140000
RDATE:20251026T020000
TZOFFSETFROM:+0100
TZOFFSETTO:+0200
TZNAME:Europe/Berlin CEST
END:DAYLIGHT
END:VTIMEZONE
BEGIN:VEVENT
UID:6867deb63071a@82.calovo
CATEGORIES:TSV 1860 München
CREATED:20250921T100503
SUMMARY:M60 1:1 (0:1) Waldhof Mannheim
LOCATION:calovo.de | Stadion an der Grünwalder Straße (Stadion)\, München\, Deutschl
 and
DESCRIPTION:TSV 1860 München 1:1 (0:1) Waldhof Mannheim\n\nTSV 1860 München:\nDähne, Da
 nhof, Voet, Reinthaler, Althaus (73. Philipp), Haugen, Maier (73. Dordan), 
 Volland, Hobsch (73. Steinkötter), Schifferl, Lippmann\n\nWaldhof Mannheim:
 \nOgbemudia, Nijhuis, Hoffmann, Bierschenk (86. Masca), Thalhammer (81. Sec
 helmann), Lohkemper (81. Boyd), Abifade, Asallari (60. Thill), Sietan, Ba, 
 Michel (60. Michel)\n\nTore:\n0:1 Bierschenk (27.)\n1:1 Haugen (85.)\n\nAKT
 UELLE NEWS VON SPORT.DE\n\n 	* 1860 München trauert um "König von Giesing" 
 http://www.sport.de/n/bzUPQpqq/ (http://www.sport.de/n/bzUPQpqq/) \n\n \n\n
 \n\n\nAnbieter-Impressum: https://calovo.de/impressum (https://calovo.de/im
 pressum)\n\n\ncalovo Kalender löschen? Anleitung: termine.de/ical/loeschen
X-ALT-DESC;FMTTYPE=text/html:TSV 1860 München 1:1 (0:1) Waldhof Mannheim<br/><br/>TSV 1860 München:<br/>
 Dähne, Danhof, Voet, Reinthaler, Althaus (73. Philipp), Haugen, Maier (73. 
 Dordan), Volland, Hobsch (73. Steinkötter), Schifferl, Lippmann<br/><br/>Wa
 ldhof Mannheim:<br/>Ogbemudia, Nijhuis, Hoffmann, Bierschenk (86. Masca), T
 halhammer (81. Sechelmann), Lohkemper (81. Boyd), Abifade, Asallari (60. Th
 ill), Sietan, Ba, Michel (60. Michel)<br/><br/>Tore:<br/>0:1 Bierschenk (27
 .)<br/>1:1 Haugen (85.)<br/><br/>AKTUELLE NEWS VON SPORT.DE<br/><br/> 	* 18
 60 München trauert um "König von Giesing" <a href="http://www.sport.de/n/bz
 UPQpqq/">http://www.sport.de/n/bzUPQpqq/</a> <br/><br/> <br/><br/><br/><br/
 ><br/>Anbieter-Impressum: <a href="https://calovo.de/impressum">https://cal
 ovo.de/impressum</a><br/><br/><br/>calovo Kalender löschen? Anleitung: term
 ine.de/ical/loeschen
DTSTAMP:20260422T174126
DTSTART;TZID=Europe/Berlin:20260404T140000
DTEND;TZID=Europe/Berlin:20260404T160000
SEQUENCE:0
TRANSP:OPAQUE
END:VEVENT
END:VCALENDAR