BEGIN:VCALENDAR
VERSION:2.0
PRODID:-//jEvents 2.0 for Joomla//EN
CALSCALE:GREGORIAN
METHOD:PUBLISH
BEGIN:VTIMEZONE
TZID:Europe/Berlin
BEGIN:STANDARD
DTSTART:20251026T020000
RDATE:20260329T030000
TZOFFSETFROM:+0200
TZOFFSETTO:+0100
TZNAME:Europe/Berlin CET
END:STANDARD
BEGIN:DAYLIGHT
DTSTART:20250406T190000
RDATE:20251026T020000
TZOFFSETFROM:+0100
TZOFFSETTO:+0200
TZNAME:Europe/Berlin CEST
END:DAYLIGHT
END:VTIMEZONE
BEGIN:VEVENT
UID:6867deb9b7c02@82.calovo
CATEGORIES:TSV 1860 München
CREATED:20250921T100503
SUMMARY:Energie Cottbus 3:0 (2:0) M60
LOCATION:calovo.de | Leag Energie Stadion (Stadion)\, Cottbus\, Deutschland
DESCRIPTION:Energie Cottbus 3:0 (2:0) TSV 1860 München\n\nEnergie Cottbus:\nPelivan, Mi
 chelbrink (77. Cvjetinovic), Manu, Ciğerci, Hannemann (60. Rorig), Engelhar
 dt (77. Tattermusch), Boziaris (59. Butler), Borgmann, Awortwie-Grant, Funk
 , Straudi (87. Lucoqui)\n\nTSV 1860 München:\nDanhof (65. Rittmüller), Voet
 , Jacobsen, Steinkötter (65. Niederlechner), Reinthaler, Haugen, Maier (46.
  Althaus), Volland (82. Hobsch), Schifferl (46. Faßmann), Lippmann, Dähne\n
 \nTore:\n1:0 Engelhardt (29.)\n2:0 Engelhardt (33.)\n3:0 Engelhardt (66.)\n
 \n\n\n\n\nAnbieter-Impressum: https://calovo.de/impressum (https://calovo.d
 e/impressum)\n\n\ncalovo Kalender löschen? Anleitung: termine.de/ical/loesc
 hen
X-ALT-DESC;FMTTYPE=text/html:Energie Cottbus 3:0 (2:0) TSV 1860 München<br/><br/>Energie Cottbus:<br/>Pe
 livan, Michelbrink (77. Cvjetinovic), Manu, Ciğerci, Hannemann (60. Rorig),
  Engelhardt (77. Tattermusch), Boziaris (59. Butler), Borgmann, Awortwie-Gr
 ant, Funk, Straudi (87. Lucoqui)<br/><br/>TSV 1860 München:<br/>Danhof (65.
  Rittmüller), Voet, Jacobsen, Steinkötter (65. Niederlechner), Reinthaler, 
 Haugen, Maier (46. Althaus), Volland (82. Hobsch), Schifferl (46. Faßmann),
  Lippmann, Dähne<br/><br/>Tore:<br/>1:0 Engelhardt (29.)<br/>2:0 Engelhardt
  (33.)<br/>3:0 Engelhardt (66.)<br/><br/><br/><br/><br/><br/>Anbieter-Impre
 ssum: <a href="https://calovo.de/impressum">https://calovo.de/impressum</a>
 <br/><br/><br/>calovo Kalender löschen? Anleitung: termine.de/ical/loeschen
DTSTAMP:20260422T174125
DTSTART;TZID=Europe/Berlin:20260407T190000
DTEND;TZID=Europe/Berlin:20260407T210000
SEQUENCE:0
TRANSP:OPAQUE
END:VEVENT
END:VCALENDAR