BEGIN:VCALENDAR
VERSION:2.0
PRODID:-//jEvents 2.0 for Joomla//EN
CALSCALE:GREGORIAN
METHOD:PUBLISH
BEGIN:VTIMEZONE
TZID:Europe/Berlin
BEGIN:STANDARD
DTSTART:20251026T020000
RDATE:20260329T030000
TZOFFSETFROM:+0200
TZOFFSETTO:+0100
TZNAME:Europe/Berlin CET
END:STANDARD
BEGIN:DAYLIGHT
DTSTART:20250411T193000
RDATE:20251026T020000
TZOFFSETFROM:+0100
TZOFFSETTO:+0200
TZNAME:Europe/Berlin CEST
END:DAYLIGHT
END:VTIMEZONE
BEGIN:VEVENT
UID:6867debb514ae@82.calovo
CATEGORIES:TSV 1860 München
CREATED:20250921T100503
SUMMARY:M60 2:2 (1:2) Jahn Regensburg
LOCATION:calovo.de | Stadion an der Grünwalder Straße (Stadion)\, München\, Deutschl
 and
DESCRIPTION:TSV 1860 München 2:2 (1:2) Jahn Regensburg\n\nTSV 1860 München:\nDähne, Voe
 t, Jacobsen, Niederlechner (72. Steinkötter), Reinthaler (46. Schifferl), H
 augen, Pfeifer, Rittmüller (72. Schröter), Volland (83. Hobsch), Faßmann (9
 0. Dordan), Althaus\n\nJahn Regensburg:\nGebhardt, Müller, Eichinger (51. H
 ottmann), Posselt (66. Dietz), Oliveira, Bauer, Fein (88. Saller), Kühlwett
 er, Mätzler (66. Ziegele), Seidel, Wurm\n\nTore:\n1:0 Haugen (28.)\n1:1 Mät
 zler (42.)\n1:2 Müller (45.)\n2:2 Haugen (81.)\n\n\n\n\n\nAnbieter-Impressu
 m: https://calovo.de/impressum (https://calovo.de/impressum)\n\n\ncalovo Ka
 lender löschen? Anleitung: termine.de/ical/loeschen
X-ALT-DESC;FMTTYPE=text/html:TSV 1860 München 2:2 (1:2) Jahn Regensburg<br/><br/>TSV 1860 München:<br/>D
 ähne, Voet, Jacobsen, Niederlechner (72. Steinkötter), Reinthaler (46. Schi
 fferl), Haugen, Pfeifer, Rittmüller (72. Schröter), Volland (83. Hobsch), F
 aßmann (90. Dordan), Althaus<br/><br/>Jahn Regensburg:<br/>Gebhardt, Müller
 , Eichinger (51. Hottmann), Posselt (66. Dietz), Oliveira, Bauer, Fein (88.
  Saller), Kühlwetter, Mätzler (66. Ziegele), Seidel, Wurm<br/><br/>Tore:<br
 />1:0 Haugen (28.)<br/>1:1 Mätzler (42.)<br/>1:2 Müller (45.)<br/>2:2 Hauge
 n (81.)<br/><br/><br/><br/><br/><br/>Anbieter-Impressum: <a href="https://c
 alovo.de/impressum">https://calovo.de/impressum</a><br/><br/><br/>calovo Ka
 lender löschen? Anleitung: termine.de/ical/loeschen
DTSTAMP:20260422T174125
DTSTART;TZID=Europe/Berlin:20260412T193000
DTEND;TZID=Europe/Berlin:20260412T213000
SEQUENCE:0
TRANSP:OPAQUE
END:VEVENT
END:VCALENDAR