BEGIN:VCALENDAR
VERSION:2.0
PRODID:-//jEvents 2.0 for Joomla//EN
CALSCALE:GREGORIAN
METHOD:PUBLISH
BEGIN:VTIMEZONE
TZID:Europe/Berlin
BEGIN:STANDARD
DTSTART:20251026T020000
RDATE:20260329T030000
TZOFFSETFROM:+0200
TZOFFSETTO:+0100
TZNAME:Europe/Berlin CET
END:STANDARD
BEGIN:DAYLIGHT
DTSTART:20250417T140000
RDATE:20251026T020000
TZOFFSETFROM:+0100
TZOFFSETTO:+0200
TZNAME:Europe/Berlin CEST
END:DAYLIGHT
END:VTIMEZONE
BEGIN:VEVENT
UID:6867debdacea0@82.calovo
CATEGORIES:TSV 1860 München
CREATED:20250921T100503
SUMMARY:1. FC Saarbrücken 0:0 (0:0) M60
LOCATION:calovo.de | Ludwigspark (Stadion)\, Saarbrücken\, Deutschland
DESCRIPTION:1. FC Saarbrücken 0:0 (0:0) TSV 1860 München<br/><br/>1. FC Saarbrücken:<br
 />Multhaup (90. Naïfi), Vasiliadis (68. Elongo-Yombo), Menzel, Pick, Sonthe
 imer, Brünker (68. Baumann), Civeja (79. Krahn), Fahrner, Wilhelm, Bretschn
 eider, Bichsel<br/><br/>TSV 1860 München:<br/>Volland, Niederlechner (68. S
 teinkötter), Dähne, Maier (46. Danhof), Jacobsen, Schifferl, Rittmüller (88
 . Husic), Haugen (68. Hobsch), Althaus (68. Dordan), Pfeifer, Voet<br/><br/
 >AKTUELLE NEWS VON SPORT.DE<br/><br/> 	* Anstoß verpennt! Butts kuriose Meg
 a-Panne vor 22 Jahren <a href="http://www.sport.de/n/ZbUyRxk/">http://www.s
 port.de/n/ZbUyRxk/</a> <br/><br/> <br/><br/><br/><br/><br/>Anbieter-Impress
 um: <a href="https://calovo.de/impressum">https://calovo.de/impressum</a><b
 r/><br/><br/>calovo Kalender löschen? Anleitung: termine.de/ical/loeschen
DTSTAMP:20260422T174124
DTSTART;TZID=Europe/Berlin:20260418T140000
DTEND;TZID=Europe/Berlin:20260418T160000
SEQUENCE:0
TRANSP:OPAQUE
END:VEVENT
END:VCALENDAR