BEGIN:VCALENDAR
VERSION:2.0
PRODID:-//jEvents 2.0 for Joomla//EN
CALSCALE:GREGORIAN
METHOD:PUBLISH
BEGIN:VTIMEZONE
TZID:Europe/Berlin
BEGIN:STANDARD
DTSTART:20241028T204500
RDATE:20250330T030000
TZOFFSETFROM:+0200
TZOFFSETTO:+0100
TZNAME:Europe/Berlin CET
END:STANDARD
BEGIN:STANDARD
DTSTART:20251026T020000
RDATE:20260329T030000
TZOFFSETFROM:+0200
TZOFFSETTO:+0100
TZNAME:Europe/Berlin CET
END:STANDARD
BEGIN:DAYLIGHT
DTSTART:20250330T030000
RDATE:20251026T020000
TZOFFSETFROM:+0100
TZOFFSETTO:+0200
TZNAME:Europe/Berlin CEST
END:DAYLIGHT
END:VTIMEZONE
BEGIN:VEVENT
UID:68d512cc20ca4@2889.calovo
CATEGORIES:Liverpool
CREATED:20250928T104805
SUMMARY:LIV 0:3 (0:2) Crystal Palace
LOCATION:calovo.de | Anfield (Stadion)\, Liverpool\, England
DESCRIPTION:Liverpool FC 0:3 (0:2) Crystal Palace<br/><br/>Liverpool FC:<br/>Chiesa, En
 dō, Gomez, Kerkez, Mac Allister (67. Gordon), Morrison (67. Lucky), Ngumoha
  (86. Doherty), Nyoni, Ramsay, Robertson (67. Nallo), Woodman<br/><br/>Crys
 tal Palace:<br/>Benítez, Canvot, Guéhi, Hughes (74. Lerma), Kamada, Lacroix
 , Muñoz (74. Cardines), Nketiah (46. Mateta), Sarr (62. Devenny), Sosa (83.
  Uche), Yéremy Pino<br/><br/>Tore:<br/>0:1 Sarr (41.)<br/>0:2 Sarr (45.)<br
 />0:3 Yéremy Pino (88.)<br/><br/>AKTUELLE NEWS VON SPORT.DE<br/><br/> 	* Mö
 gliche Lösung für Bayerns Kim gefunden <a href="http://www.sport.de/n/VzUqP
 EbV/">http://www.sport.de/n/VzUqPEbV/</a> <br/><br/> <br/><br/><br/><br/><b
 r/>Anbieter-Impressum: <a href="http://calovo.de/impressum">http://calovo.d
 e/impressum</a><br/><br/><br/>calovo Kalender löschen? Anleitung: termine.d
 e/ical/loeschen
DTSTAMP:20260422T213039
DTSTART;TZID=Europe/Berlin:20251029T204500
DTEND;TZID=Europe/Berlin:20251029T224500
SEQUENCE:0
TRANSP:OPAQUE
END:VEVENT
END:VCALENDAR