BEGIN:VCALENDAR
VERSION:2.0
PRODID:-//jEvents 2.0 for Joomla//EN
CALSCALE:GREGORIAN
METHOD:PUBLISH
BEGIN:VTIMEZONE
TZID:Europe/Berlin
BEGIN:STANDARD
DTSTART:20250111T204500
RDATE:20250330T030000
TZOFFSETFROM:+0200
TZOFFSETTO:+0100
TZNAME:Europe/Berlin CET
END:STANDARD
BEGIN:STANDARD
DTSTART:20251026T020000
RDATE:20260329T030000
TZOFFSETFROM:+0200
TZOFFSETTO:+0100
TZNAME:Europe/Berlin CET
END:STANDARD
BEGIN:DAYLIGHT
DTSTART:20250330T030000
RDATE:20251026T020000
TZOFFSETFROM:+0100
TZOFFSETTO:+0200
TZNAME:Europe/Berlin CEST
END:DAYLIGHT
END:VTIMEZONE
BEGIN:VEVENT
UID:6938017ad1a22@2889.calovo
CATEGORIES:Liverpool
CREATED:20251210T082805
SUMMARY:LIV 4:1 (2:1) Barnsley FC
LOCATION:calovo.de | Anfield (Stadion)\, Liverpool\, England
DESCRIPTION:Liverpool FC 4:1 (2:1) Barnsley FC\n\nLiverpool FC:\nMamardashvili, Roberts
 on, van Dijk, Gomez (60. Konaté), Frimpong (60. Wirtz), Mac Allister (88. N
 yoni), Jones, Gakpo, Szoboszlai, Ngumoha (73. Gravenberch), Chiesa (60. Eki
 tiké)\n\nBarnsley FC:\nCooper, Ogbeta (73. OConnell), de Gevigney, Shepherd
 , OKeeffe, Bland, Phillips (73. Kelly), Watson, Keillor-Dunn (81. McGoldric
 k), Yoganathan (88. Gent), Cleary\n\nTore:\n1:0 Szoboszlai (9.)\n2:0 Frimpo
 ng (36.)\n2:1 Phillips (40.)\n3:1 Wirtz (84.)\n4:1 Ekitiké (90.)\n\nAKTUELL
 E NEWS VON SPORT.DE\n\n 	* 100-Millionen-Transfer? Leipzig-Juwel wird immer
  begehrter http://www.sport.de/n/VzUqBEwr/ (http://www.sport.de/n/VzUqBEwr/
 ) \n\n \n\n\n\n\nAnbieter-Impressum: http://calovo.de/impressum (http://cal
 ovo.de/impressum)\n\n\ncalovo Kalender löschen? Anleitung: termine.de/ical/
 loeschen
X-ALT-DESC;FMTTYPE=text/html:Liverpool FC 4:1 (2:1) Barnsley FC<br/><br/>Liverpool FC:<br/>Mamardashvili
 , Robertson, van Dijk, Gomez (60. Konaté), Frimpong (60. Wirtz), Mac Allist
 er (88. Nyoni), Jones, Gakpo, Szoboszlai, Ngumoha (73. Gravenberch), Chiesa
  (60. Ekitiké)<br/><br/>Barnsley FC:<br/>Cooper, Ogbeta (73. OConnell), de 
 Gevigney, Shepherd, OKeeffe, Bland, Phillips (73. Kelly), Watson, Keillor-D
 unn (81. McGoldrick), Yoganathan (88. Gent), Cleary<br/><br/>Tore:<br/>1:0 
 Szoboszlai (9.)<br/>2:0 Frimpong (36.)<br/>2:1 Phillips (40.)<br/>3:1 Wirtz
  (84.)<br/>4:1 Ekitiké (90.)<br/><br/>AKTUELLE NEWS VON SPORT.DE<br/><br/> 
 	* 100-Millionen-Transfer? Leipzig-Juwel wird immer begehrter <a href="http
 ://www.sport.de/n/VzUqBEwr/">http://www.sport.de/n/VzUqBEwr/</a> <br/><br/>
  <br/><br/><br/><br/><br/>Anbieter-Impressum: <a href="http://calovo.de/imp
 ressum">http://calovo.de/impressum</a><br/><br/><br/>calovo Kalender lösche
 n? Anleitung: termine.de/ical/loeschen
DTSTAMP:20260422T180029
DTSTART;TZID=Europe/Berlin:20260112T204500
DTEND;TZID=Europe/Berlin:20260112T224500
SEQUENCE:0
TRANSP:OPAQUE
END:VEVENT
END:VCALENDAR