BEGIN:VCALENDAR
VERSION:2.0
PRODID:-//jEvents 2.0 for Joomla//EN
CALSCALE:GREGORIAN
METHOD:PUBLISH
BEGIN:VTIMEZONE
TZID:Europe/Berlin
BEGIN:STANDARD
DTSTART:20250213T210000
RDATE:20250330T030000
TZOFFSETFROM:+0200
TZOFFSETTO:+0100
TZNAME:Europe/Berlin CET
END:STANDARD
BEGIN:STANDARD
DTSTART:20251026T020000
RDATE:20260329T030000
TZOFFSETFROM:+0200
TZOFFSETTO:+0100
TZNAME:Europe/Berlin CET
END:STANDARD
BEGIN:DAYLIGHT
DTSTART:20250330T030000
RDATE:20251026T020000
TZOFFSETFROM:+0100
TZOFFSETTO:+0200
TZNAME:Europe/Berlin CEST
END:DAYLIGHT
END:VTIMEZONE
BEGIN:VEVENT
UID:696625e95add4@2889.calovo
CATEGORIES:Liverpool
CREATED:20260116T161630
SUMMARY:LIV 3:0 (1:0) Brighton & Hove Albion
LOCATION:calovo.de | Anfield (Stadion)\, Liverpool\, England
DESCRIPTION:Liverpool FC 3:0 (1:0) Brighton &amp; Hove Albion\n\nLiverpool FC:\nAlisson
  Becker, Chiesa (77. Ngumoha), Gakpo (90. Ramsay), Jones (90. Nyoni), Kerke
 z, Konaté, Mac Allister, Salah (77. Ekitiké), Szoboszlai, van Dijk, Wirtz (
 71. Gomez)\n\nBrighton &amp; Hove Albion:\nBaleba (62. Mitoma), Dunk, Gómez
  (62. Rutter), Groß, Hinshelwood (81. Wieffer), Howell (62. Minteh), Kadıoğ
 lu, Kostoulas, Steele, van Hecke (72. Boscagli), Veltman\n\nTore:\n1:0 Jone
 s (42.)\n2:0 Szoboszlai (56.)\n3:0 Salah (68.)\n\nAKTUELLE NEWS VON SPORT.D
 E\n\n 	* Wirtz erhält erste Auszeichnung in England http://www.sport.de/n/X
 zU8g9m0/ (http://www.sport.de/n/XzU8g9m0/) \n\n \n\n\n\n\nAnbieter-Impressu
 m: http://calovo.de/impressum (http://calovo.de/impressum)\n\n\ncalovo Kale
 nder löschen? Anleitung: termine.de/ical/loeschen
X-ALT-DESC;FMTTYPE=text/html:Liverpool FC 3:0 (1:0) Brighton & Hove Albion<br/><br/>Liverpool FC:<br/>Al
 isson Becker, Chiesa (77. Ngumoha), Gakpo (90. Ramsay), Jones (90. Nyoni), 
 Kerkez, Konaté, Mac Allister, Salah (77. Ekitiké), Szoboszlai, van Dijk, Wi
 rtz (71. Gomez)<br/><br/>Brighton & Hove Albion:<br/>Baleba (62. Mitoma), D
 unk, Gómez (62. Rutter), Groß, Hinshelwood (81. Wieffer), Howell (62. Minte
 h), Kadıoğlu, Kostoulas, Steele, van Hecke (72. Boscagli), Veltman<br/><br/
 >Tore:<br/>1:0 Jones (42.)<br/>2:0 Szoboszlai (56.)<br/>3:0 Salah (68.)<br/
 ><br/>AKTUELLE NEWS VON SPORT.DE<br/><br/> 	* Wirtz erhält erste Auszeichnu
 ng in England <a href="http://www.sport.de/n/XzU8g9m0/">http://www.sport.de
 /n/XzU8g9m0/</a> <br/><br/> <br/><br/><br/><br/><br/>Anbieter-Impressum: <a
  href="http://calovo.de/impressum">http://calovo.de/impressum</a><br/><br/>
 <br/>calovo Kalender löschen? Anleitung: termine.de/ical/loeschen
DTSTAMP:20260422T194440
DTSTART;TZID=Europe/Berlin:20260214T210000
DTEND;TZID=Europe/Berlin:20260214T230000
SEQUENCE:0
TRANSP:OPAQUE
END:VEVENT
END:VCALENDAR