BEGIN:VCALENDAR
VERSION:2.0
PRODID:-//jEvents 2.0 for Joomla//EN
CALSCALE:GREGORIAN
METHOD:PUBLISH
BEGIN:VTIMEZONE
TZID:Europe/Berlin
BEGIN:STANDARD
DTSTART:20250305T210000
RDATE:20250330T030000
TZOFFSETFROM:+0200
TZOFFSETTO:+0100
TZNAME:Europe/Berlin CET
END:STANDARD
BEGIN:STANDARD
DTSTART:20251026T020000
RDATE:20260329T030000
TZOFFSETFROM:+0200
TZOFFSETTO:+0100
TZNAME:Europe/Berlin CET
END:STANDARD
BEGIN:DAYLIGHT
DTSTART:20250330T030000
RDATE:20251026T020000
TZOFFSETFROM:+0100
TZOFFSETTO:+0200
TZNAME:Europe/Berlin CEST
END:DAYLIGHT
END:VTIMEZONE
BEGIN:VEVENT
UID:69944a6f2af84@2889.calovo
CATEGORIES:Liverpool
CREATED:20260227T091419
SUMMARY:Wolverhampton Wanderers 1:3 (0:0) LIV
LOCATION:calovo.de | Molineux Stadium (Stadion)\, Wolverhampton\, England
DESCRIPTION:Wolverhampton Wanderers 1:3 (0:0) Liverpool FC\n\nWolverhampton Wanderers:\
 nArokodare (75. Hwang), Bellegarde, Bueno, Gomes (61. Armstrong), Hugo Buen
 o (88. Møller Wolfe), João Gomes, Johnstone, Mané, Mosquera, Tchatchoua, To
 ti (75. Rodrigo Gomes)\n\nLiverpool FC:\nAlisson Becker, Gakpo (86. Morriso
 n), Gomez, Gravenberch, Jones, Mac Allister (82. Nyoni), Ngumoha (69. Wirtz
 ), Robertson, Salah (69. Frimpong), Szoboszlai, van Dijk (81. Konaté)\n\nTo
 re:\n0:1 Robertson (51.)\n0:2 Salah (53.)\n0:3 Jones (74.)\n1:3 Hwang (90.)
 \n\nAKTUELLE NEWS VON SPORT.DE\n\n 	* Medien: Topklub hat "ernsthaftes" Int
 eresse an SGE-Star http://www.sport.de/n/bzUPWzK7/ (http://www.sport.de/n/b
 zUPWzK7/) \n\n \n\n\n\n\nAnbieter-Impressum: http://calovo.de/impressum (ht
 tp://calovo.de/impressum)\n\n\ncalovo Kalender löschen? Anleitung: termine.
 de/ical/loeschen
X-ALT-DESC;FMTTYPE=text/html:Wolverhampton Wanderers 1:3 (0:0) Liverpool FC<br/><br/>Wolverhampton Wande
 rers:<br/>Arokodare (75. Hwang), Bellegarde, Bueno, Gomes (61. Armstrong), 
 Hugo Bueno (88. Møller Wolfe), João Gomes, Johnstone, Mané, Mosquera, Tchat
 choua, Toti (75. Rodrigo Gomes)<br/><br/>Liverpool FC:<br/>Alisson Becker, 
 Gakpo (86. Morrison), Gomez, Gravenberch, Jones, Mac Allister (82. Nyoni), 
 Ngumoha (69. Wirtz), Robertson, Salah (69. Frimpong), Szoboszlai, van Dijk 
 (81. Konaté)<br/><br/>Tore:<br/>0:1 Robertson (51.)<br/>0:2 Salah (53.)<br/
 >0:3 Jones (74.)<br/>1:3 Hwang (90.)<br/><br/>AKTUELLE NEWS VON SPORT.DE<br
 /><br/> 	* Medien: Topklub hat "ernsthaftes" Interesse an SGE-Star <a href=
 "http://www.sport.de/n/bzUPWzK7/">http://www.sport.de/n/bzUPWzK7/</a> <br/>
 <br/> <br/><br/><br/><br/><br/>Anbieter-Impressum: <a href="http://calovo.d
 e/impressum">http://calovo.de/impressum</a><br/><br/><br/>calovo Kalender l
 öschen? Anleitung: termine.de/ical/loeschen
DTSTAMP:20260422T174949
DTSTART;TZID=Europe/Berlin:20260306T210000
DTEND;TZID=Europe/Berlin:20260306T230000
SEQUENCE:0
TRANSP:OPAQUE
END:VEVENT
END:VCALENDAR