BEGIN:VCALENDAR
VERSION:2.0
PRODID:-//jEvents 2.0 for Joomla//EN
CALSCALE:GREGORIAN
METHOD:PUBLISH
BEGIN:VTIMEZONE
TZID:Europe/Berlin
BEGIN:STANDARD
DTSTART:20250309T184500
RDATE:20250330T030000
TZOFFSETFROM:+0200
TZOFFSETTO:+0100
TZNAME:Europe/Berlin CET
END:STANDARD
BEGIN:STANDARD
DTSTART:20251026T020000
RDATE:20260329T030000
TZOFFSETFROM:+0200
TZOFFSETTO:+0100
TZNAME:Europe/Berlin CET
END:STANDARD
BEGIN:DAYLIGHT
DTSTART:20250330T030000
RDATE:20251026T020000
TZOFFSETFROM:+0100
TZOFFSETTO:+0200
TZNAME:Europe/Berlin CEST
END:DAYLIGHT
END:VTIMEZONE
BEGIN:VEVENT
UID:69a1805316bdf@2889.calovo
CATEGORIES:Liverpool
CREATED:20260305T201927
SUMMARY:Galatasaray 1:0 (1:0) LIV
LOCATION:calovo.de | Rams Park (Stadion)\, Istanbul\, Türkei
DESCRIPTION:Galatasaray 1:0 (1:0) Liverpool FC\n\nGalatasaray:\nÇakır, Jakobs, Bardakçı
 , Sánchez, Singo, Lemina (77. Sallai), Torreira (90. Gündoğan), Lang (77. A
 kgün), Gabriel Sara (87. Boey), Yılmaz (90. Elmalı), Osimhen\n\nLiverpool F
 C:\nMamardashvili, Kerkez (60. Robertson), Konaté, van Dijk, Gomez, Mac All
 ister, Gravenberch, Wirtz (73. Gakpo), Szoboszlai, Salah (60. Frimpong), Ek
 itiké\n\nTore:\n1:0 Lemina (7.)\n\nAKTUELLE NEWS VON SPORT.DE\n\n 	* Xabi A
 lonso angeblich mit dem FC Liverpool einig http://www.sport.de/n/8dUdyV9r/ 
 (http://www.sport.de/n/8dUdyV9r/) \n\n \n\n\n\n\nAnbieter-Impressum: http:/
 /calovo.de/impressum (http://calovo.de/impressum)\n\n\ncalovo Kalender lösc
 hen? Anleitung: termine.de/ical/loeschen
X-ALT-DESC;FMTTYPE=text/html:Galatasaray 1:0 (1:0) Liverpool FC<br/><br/>Galatasaray:<br/>Çakır, Jakobs,
  Bardakçı, Sánchez, Singo, Lemina (77. Sallai), Torreira (90. Gündoğan), La
 ng (77. Akgün), Gabriel Sara (87. Boey), Yılmaz (90. Elmalı), Osimhen<br/><
 br/>Liverpool FC:<br/>Mamardashvili, Kerkez (60. Robertson), Konaté, van Di
 jk, Gomez, Mac Allister, Gravenberch, Wirtz (73. Gakpo), Szoboszlai, Salah 
 (60. Frimpong), Ekitiké<br/><br/>Tore:<br/>1:0 Lemina (7.)<br/><br/>AKTUELL
 E NEWS VON SPORT.DE<br/><br/> 	* Xabi Alonso angeblich mit dem FC Liverpool
  einig <a href="http://www.sport.de/n/8dUdyV9r/">http://www.sport.de/n/8dUd
 yV9r/</a> <br/><br/> <br/><br/><br/><br/><br/>Anbieter-Impressum: <a href="
 http://calovo.de/impressum">http://calovo.de/impressum</a><br/><br/><br/>ca
 lovo Kalender löschen? Anleitung: termine.de/ical/loeschen
DTSTAMP:20260422T174125
DTSTART;TZID=Europe/Berlin:20260310T184500
DTEND;TZID=Europe/Berlin:20260310T204500
SEQUENCE:0
TRANSP:OPAQUE
END:VEVENT
END:VCALENDAR