BEGIN:VCALENDAR
VERSION:2.0
PRODID:-//jEvents 2.0 for Joomla//EN
CALSCALE:GREGORIAN
METHOD:PUBLISH
BEGIN:VTIMEZONE
TZID:Europe/Berlin
BEGIN:STANDARD
DTSTART:20250317T210000
RDATE:20250330T030000
TZOFFSETFROM:+0200
TZOFFSETTO:+0100
TZNAME:Europe/Berlin CET
END:STANDARD
BEGIN:STANDARD
DTSTART:20251026T020000
RDATE:20260329T030000
TZOFFSETFROM:+0200
TZOFFSETTO:+0100
TZNAME:Europe/Berlin CET
END:STANDARD
BEGIN:DAYLIGHT
DTSTART:20250330T030000
RDATE:20251026T020000
TZOFFSETFROM:+0100
TZOFFSETTO:+0200
TZNAME:Europe/Berlin CEST
END:DAYLIGHT
END:VTIMEZONE
BEGIN:VEVENT
UID:69a18054764b1@2889.calovo
CATEGORIES:Liverpool
CREATED:20260305T201927
SUMMARY:LIV 4:0 (1:0) Galatasaray
LOCATION:calovo.de | Anfield (Stadion)\, Liverpool\, England
DESCRIPTION:Liverpool FC 4:0 (1:0) Galatasaray<br/><br/>Liverpool FC:<br/>Alisson Becke
 r, Kerkez, van Dijk, Konaté, Frimpong (67. Jones), Mac Allister, Gravenberc
 h (89. Nyoni), Wirtz (89. Ngumoha), Szoboszlai, Salah (74. Gakpo), Ekitiké 
 (89. Chiesa)<br/><br/>Galatasaray:<br/>Çakır, Jakobs, Bardakçı (73. Elmalı)
 , Singo, Boey (46. Lang), Lemina, Torreira (60. Akgün), Yılmaz, Gabriel Sar
 a, Sallai, Osimhen (46. Sané)<br/><br/>Tore:<br/>1:0 Szoboszlai (25.)<br/>2
 :0 Ekitiké (51.)<br/>3:0 Gravenberch (53.)<br/>4:0 Salah (62.)<br/><br/>AKT
 UELLE NEWS VON SPORT.DE<br/><br/> 	* Wilde Liverpool-Gerüchte um VfB-Coach 
 Sebastian Hoeneß <a href="http://www.sport.de/n/WmUZqKBz/">http://www.sport
 .de/n/WmUZqKBz/</a> <br/><br/> <br/><br/><br/><br/><br/>Anbieter-Impressum:
  <a href="http://calovo.de/impressum">http://calovo.de/impressum</a><br/><b
 r/><br/>calovo Kalender löschen? Anleitung: termine.de/ical/loeschen
DTSTAMP:20260422T174124
DTSTART;TZID=Europe/Berlin:20260318T210000
DTEND;TZID=Europe/Berlin:20260318T230000
SEQUENCE:0
TRANSP:OPAQUE
END:VEVENT
END:VCALENDAR