BEGIN:VCALENDAR
VERSION:2.0
PRODID:-//jEvents 2.0 for Joomla//EN
CALSCALE:GREGORIAN
METHOD:PUBLISH
BEGIN:VTIMEZONE
TZID:Europe/Berlin
BEGIN:STANDARD
DTSTART:20251026T020000
RDATE:20260329T030000
TZOFFSETFROM:+0200
TZOFFSETTO:+0100
TZNAME:Europe/Berlin CET
END:STANDARD
BEGIN:DAYLIGHT
DTSTART:20250403T134500
RDATE:20251026T020000
TZOFFSETFROM:+0100
TZOFFSETTO:+0200
TZNAME:Europe/Berlin CEST
END:DAYLIGHT
END:VTIMEZONE
BEGIN:VEVENT
UID:69af521197019@2889.calovo
CATEGORIES:Liverpool
CREATED:20260314T100618
SUMMARY:Manchester City 4:0 (2:0) LIV
LOCATION:calovo.de | Etihad Stadium (Stadion)\, Manchester\, England
DESCRIPTION:Manchester City 4:0 (2:0) Liverpool FC\n\nManchester City:\nBernardo Silva,
  Cherki (71. Reijnders), Doku (62. Sávinho), Guéhi, Haaland (77. Marmoush),
  Khusanov, Matheus Nunes, OReilly, Rodri (63. Nico González), Semenyo (71. 
 Foden), Trafford\n\nLiverpool FC:\nEkitiké (68. Gakpo), Gomez (62. Frimpong
 ), Gravenberch (67. Mac Allister), Jones, Kerkez, Konaté, Mamardashvili, Sa
 lah (77. Chiesa), Szoboszlai, van Dijk, Wirtz (67. Ngumoha)\n\nTore:\n1:0 H
 aaland (39.)\n2:0 Haaland (45.)\n3:0 Semenyo (50.)\n4:0 Haaland (57.)\n\nAK
 TUELLE NEWS VON SPORT.DE\n\n 	* Klopp packt aus: "Der Druck war lächerlich"
  http://www.sport.de/n/ZbU7j1g1/ \n\n \n\n\n\n\nAnbieter-Impressum: http://
 calovo.de/impressum (http://calovo.de/impressum)\n\n\ncalovo Kalender lösch
 en? Anleitung: termine.de/ical/loeschen
X-ALT-DESC;FMTTYPE=text/html:Manchester City 4:0 (2:0) Liverpool FC<br/><br/>Manchester City:<br/>Bernar
 do Silva, Cherki (71. Reijnders), Doku (62. Sávinho), Guéhi, Haaland (77. M
 armoush), Khusanov, Matheus Nunes, OReilly, Rodri (63. Nico González), Seme
 nyo (71. Foden), Trafford<br/><br/>Liverpool FC:<br/>Ekitiké (68. Gakpo), G
 omez (62. Frimpong), Gravenberch (67. Mac Allister), Jones, Kerkez, Konaté,
  Mamardashvili, Salah (77. Chiesa), Szoboszlai, van Dijk, Wirtz (67. Ngumoh
 a)<br/><br/>Tore:<br/>1:0 Haaland (39.)<br/>2:0 Haaland (45.)<br/>3:0 Semen
 yo (50.)<br/>4:0 Haaland (57.)<br/><br/>AKTUELLE NEWS VON SPORT.DE<br/><br/
 > 	* Klopp packt aus: "Der Druck war lächerlich" <a href="http://www.sport.
 de/n/ZbU7j1g1/">http://www.sport.de/n/ZbU7j1g1/</a> <br/><br/> <br/><br/><b
 r/><br/><br/>Anbieter-Impressum: <a href="http://calovo.de/impressum">http:
 //calovo.de/impressum</a><br/><br/><br/>calovo Kalender löschen? Anleitung:
  termine.de/ical/loeschen
DTSTAMP:20260422T174126
DTSTART;TZID=Europe/Berlin:20260404T134500
DTEND;TZID=Europe/Berlin:20260404T154500
SEQUENCE:0
TRANSP:OPAQUE
END:VEVENT
END:VCALENDAR