BEGIN:VCALENDAR
VERSION:2.0
PRODID:-//jEvents 2.0 for Joomla//EN
CALSCALE:GREGORIAN
METHOD:PUBLISH
BEGIN:VTIMEZONE
TZID:Europe/Berlin
BEGIN:STANDARD
DTSTART:20251026T020000
RDATE:20260329T030000
TZOFFSETFROM:+0200
TZOFFSETTO:+0100
TZNAME:Europe/Berlin CET
END:STANDARD
BEGIN:DAYLIGHT
DTSTART:20250407T210000
RDATE:20251026T020000
TZOFFSETFROM:+0100
TZOFFSETTO:+0200
TZNAME:Europe/Berlin CEST
END:DAYLIGHT
END:VTIMEZONE
BEGIN:VEVENT
UID:69bb217c80dc9@2889.calovo
CATEGORIES:Liverpool
CREATED:20260405T125957
SUMMARY:Paris Saint-Germain 2:0 (1:0) LIV
LOCATION:calovo.de | Parc des Princes (Stadion)\, Paris\, Frankreich
DESCRIPTION:Paris Saint-Germain 2:0 (1:0) Liverpool FC\n\nParis Saint-Germain:\nSafonov
 , Nuno Mendes, Pacho, Marquinhos, Hakimi, João Neves, Vitinha, Zaïre-Emery,
  Kvaratskhelia, Dembélé (88. Hernández), Doué (78. Lee)\n\nLiverpool FC:\nM
 amardashvili, Kerkez (78. Robertson), van Dijk, Konaté, Gomez, Mac Allister
 , Gravenberch, Wirtz, Szoboszlai (79. Isak), Frimpong (90. Nyoni), Ekitiké 
 (79. Jones)\n\nTore:\n1:0 Doué (11.)\n2:0 Kvaratskhelia (65.)\n\nAKTUELLE N
 EWS VON SPORT.DE\n\n 	* Trainer in der Kritik: Wirtz stellt sich hinter Slo
 t http://www.sport.de/n/z2UdMnxR/ (http://www.sport.de/n/z2UdMnxR/) \n\n \n
 \n\n\n\nAnbieter-Impressum: http://calovo.de/impressum (http://calovo.de/im
 pressum)\n\n\ncalovo Kalender löschen? Anleitung: termine.de/ical/loeschen
X-ALT-DESC;FMTTYPE=text/html:Paris Saint-Germain 2:0 (1:0) Liverpool FC<br/><br/>Paris Saint-Germain:<br
 />Safonov, Nuno Mendes, Pacho, Marquinhos, Hakimi, João Neves, Vitinha, Zaï
 re-Emery, Kvaratskhelia, Dembélé (88. Hernández), Doué (78. Lee)<br/><br/>L
 iverpool FC:<br/>Mamardashvili, Kerkez (78. Robertson), van Dijk, Konaté, G
 omez, Mac Allister, Gravenberch, Wirtz, Szoboszlai (79. Isak), Frimpong (90
 . Nyoni), Ekitiké (79. Jones)<br/><br/>Tore:<br/>1:0 Doué (11.)<br/>2:0 Kva
 ratskhelia (65.)<br/><br/>AKTUELLE NEWS VON SPORT.DE<br/><br/> 	* Trainer i
 n der Kritik: Wirtz stellt sich hinter Slot <a href="http://www.sport.de/n/
 z2UdMnxR/">http://www.sport.de/n/z2UdMnxR/</a> <br/><br/> <br/><br/><br/><b
 r/><br/>Anbieter-Impressum: <a href="http://calovo.de/impressum">http://cal
 ovo.de/impressum</a><br/><br/><br/>calovo Kalender löschen? Anleitung: term
 ine.de/ical/loeschen
DTSTAMP:20260422T174126
DTSTART;TZID=Europe/Berlin:20260408T210000
DTEND;TZID=Europe/Berlin:20260408T230000
SEQUENCE:0
TRANSP:OPAQUE
END:VEVENT
END:VCALENDAR