BEGIN:VCALENDAR
VERSION:2.0
PRODID:-//jEvents 2.0 for Joomla//EN
CALSCALE:GREGORIAN
METHOD:PUBLISH
BEGIN:VTIMEZONE
TZID:Europe/Berlin
BEGIN:STANDARD
DTSTART:20251026T020000
RDATE:20260329T030000
TZOFFSETFROM:+0200
TZOFFSETTO:+0100
TZNAME:Europe/Berlin CET
END:STANDARD
BEGIN:DAYLIGHT
DTSTART:20250413T210000
RDATE:20251026T020000
TZOFFSETFROM:+0100
TZOFFSETTO:+0200
TZNAME:Europe/Berlin CEST
END:DAYLIGHT
END:VTIMEZONE
BEGIN:VEVENT
UID:69bb217d3bd87@2889.calovo
CATEGORIES:Liverpool
CREATED:20260405T125957
SUMMARY:LIV 0:2 (0:0) Paris Saint-Germain
LOCATION:calovo.de | Anfield (Stadion)\, Liverpool\, England
DESCRIPTION:Liverpool FC 0:2 (0:0) Paris Saint-Germain\n\nLiverpool FC:\nMamardashvili,
  Kerkez, van Dijk, Konaté, Frimpong (46. Gomez), Mac Allister (74. Jones), 
 Gravenberch, Wirtz, Szoboszlai, Ekitiké (31. Salah), Isak (46. Gakpo)\n\nPa
 ris Saint-Germain:\nSafonov, Nuno Mendes (38. Hernández), Pacho, Marquinhos
 , Hakimi, João Neves, Vitinha, Zaïre-Emery (81. Lucas Beraldo), Doué (52. B
 arcola), Dembélé, Kvaratskhelia\n\nTore:\n0:1 Dembélé (72.)\n0:2 Dembélé (9
 0.)\n\nAKTUELLE NEWS VON SPORT.DE\n\n 	* Wirtz liefert Vorlage bei Liverpoo
 l-Sieg http://www.sport.de/n/pWUyYAdL/ (http://www.sport.de/n/pWUyYAdL/) \n
 \n \n\n\n\n\nAnbieter-Impressum: http://calovo.de/impressum (http://calovo.
 de/impressum)\n\n\ncalovo Kalender löschen? Anleitung: termine.de/ical/loes
 chen
X-ALT-DESC;FMTTYPE=text/html:Liverpool FC 0:2 (0:0) Paris Saint-Germain<br/><br/>Liverpool FC:<br/>Mamar
 dashvili, Kerkez, van Dijk, Konaté, Frimpong (46. Gomez), Mac Allister (74.
  Jones), Gravenberch, Wirtz, Szoboszlai, Ekitiké (31. Salah), Isak (46. Gak
 po)<br/><br/>Paris Saint-Germain:<br/>Safonov, Nuno Mendes (38. Hernández),
  Pacho, Marquinhos, Hakimi, João Neves, Vitinha, Zaïre-Emery (81. Lucas Ber
 aldo), Doué (52. Barcola), Dembélé, Kvaratskhelia<br/><br/>Tore:<br/>0:1 De
 mbélé (72.)<br/>0:2 Dembélé (90.)<br/><br/>AKTUELLE NEWS VON SPORT.DE<br/><
 br/> 	* Wirtz liefert Vorlage bei Liverpool-Sieg <a href="http://www.sport.
 de/n/pWUyYAdL/">http://www.sport.de/n/pWUyYAdL/</a> <br/><br/> <br/><br/><b
 r/><br/><br/>Anbieter-Impressum: <a href="http://calovo.de/impressum">http:
 //calovo.de/impressum</a><br/><br/><br/>calovo Kalender löschen? Anleitung:
  termine.de/ical/loeschen
DTSTAMP:20260422T174125
DTSTART;TZID=Europe/Berlin:20260414T210000
DTEND;TZID=Europe/Berlin:20260414T230000
SEQUENCE:0
TRANSP:OPAQUE
END:VEVENT
END:VCALENDAR