BEGIN:VCALENDAR
VERSION:2.0
PRODID:-//jEvents 2.0 for Joomla//EN
CALSCALE:GREGORIAN
METHOD:PUBLISH
BEGIN:VTIMEZONE
TZID:Europe/Berlin
BEGIN:STANDARD
DTSTART:20241027T020000
RDATE:20250330T030000
TZOFFSETFROM:+0200
TZOFFSETTO:+0100
TZNAME:Europe/Berlin CET
END:STANDARD
BEGIN:STANDARD
DTSTART:20251026T020000
RDATE:20260329T030000
TZOFFSETFROM:+0200
TZOFFSETTO:+0100
TZNAME:Europe/Berlin CET
END:STANDARD
BEGIN:DAYLIGHT
DTSTART:20240419T173000
RDATE:20241027T020000
TZOFFSETFROM:+0100
TZOFFSETTO:+0200
TZNAME:Europe/Berlin CEST
END:DAYLIGHT
BEGIN:DAYLIGHT
DTSTART:20250330T030000
RDATE:20251026T020000
TZOFFSETFROM:+0100
TZOFFSETTO:+0200
TZNAME:Europe/Berlin CEST
END:DAYLIGHT
END:VTIMEZONE
BEGIN:VEVENT
UID:6677ac20a5f1b@2889.calovo
CATEGORIES:Liverpool
CREATED:20241021T090848
SUMMARY:Leicester City 0:1 (0:0) LIV
LOCATION:calovo.de | King Power Stadium (Stadion)\, Leicester\, England
DESCRIPTION:Leicester City 0:1 (0:0) Liverpool FC<br/><br/>Leicester City:<br/>Coady, D
 e Cordova-Reid (61. Buonanotte), El Khannouss, Faes, Hermansen, Mavididi (8
 5. Monga), Ndidi (83. Skipp), Ricardo Pereira (83. Justin), Soumaré, Thomas
 , Vardy (62. Daka)<br/><br/>Liverpool FC:<br/>Alisson Becker, Bradley (71. 
 Alexander-Arnold), Díaz (90. Jones), Gakpo (60. Diogo Jota), Gravenberch, K
 onaté, Mac Allister, Salah, Szoboszlai (71. Elliott), Tsimikas, van Dijk<br
 /><br/>Tore:<br/>0:1 Alexander-Arnold (76.)<br/><br/><br/><br/><br/><br/>An
 bieter-Impressum: <a href="http://calovo.de/impressum">http://calovo.de/imp
 ressum</a><br/><br/><br/>calovo Kalender löschen? Anleitung: termine.de/ica
 l/loeschen
DTSTAMP:20260422T194444
DTSTART;TZID=Europe/Berlin:20250420T173000
DTEND;TZID=Europe/Berlin:20250420T193000
SEQUENCE:0
TRANSP:OPAQUE
END:VEVENT
END:VCALENDAR