BEGIN:VCALENDAR
VERSION:2.0
PRODID:-//jEvents 2.0 for Joomla//EN
CALSCALE:GREGORIAN
METHOD:PUBLISH
BEGIN:VTIMEZONE
TZID:Europe/Berlin
BEGIN:STANDARD
DTSTART:20241027T020000
RDATE:20250330T030000
TZOFFSETFROM:+0200
TZOFFSETTO:+0100
TZNAME:Europe/Berlin CET
END:STANDARD
BEGIN:STANDARD
DTSTART:20251026T020000
RDATE:20260329T030000
TZOFFSETFROM:+0200
TZOFFSETTO:+0100
TZNAME:Europe/Berlin CET
END:STANDARD
BEGIN:DAYLIGHT
DTSTART:20240426T173000
RDATE:20241027T020000
TZOFFSETFROM:+0100
TZOFFSETTO:+0200
TZNAME:Europe/Berlin CEST
END:DAYLIGHT
BEGIN:DAYLIGHT
DTSTART:20250330T030000
RDATE:20251026T020000
TZOFFSETFROM:+0100
TZOFFSETTO:+0200
TZNAME:Europe/Berlin CEST
END:DAYLIGHT
END:VTIMEZONE
BEGIN:VEVENT
UID:6677ac220cb26@2889.calovo
CATEGORIES:Liverpool
CREATED:20241021T090848
SUMMARY:LIV 5:1 (3:1) Tottenham Hotspur
LOCATION:calovo.de | Anfield (Stadion)\, Liverpool\, England
DESCRIPTION:Liverpool FC 5:1 (3:1) Tottenham Hotspur\n\nLiverpool FC:\nAlexander-Arnold
  (76. Endō), Alisson Becker, Díaz (76. Elliott), Gakpo (68. Diogo Jota), Gr
 avenberch, Konaté, Mac Allister (83. Núñez), Robertson, Salah, Szoboszlai (
 68. Jones), van Dijk\n\nTottenham Hotspur:\nBergvall, Danso, Davies, Gray (
 46. Sarr), Johnson, Maddison (46. Kulusevski), Solanke (68. Richarlison), S
 pence, Tel (68. Odobert), Udogie, Vicario\n\nTore:\n0:1 Solanke (12.)\n1:1 
 Díaz (16.)\n2:1 Mac Allister (24.)\n3:1 Gakpo (34.)\n4:1 Salah (63.)\n5:1 U
 dogie (69.)\n\n\n\n\n\nAnbieter-Impressum: http://calovo.de/impressum (http
 ://calovo.de/impressum)\n\n\ncalovo Kalender löschen? Anleitung: termine.de
 /ical/loeschen
X-ALT-DESC;FMTTYPE=text/html:Liverpool FC 5:1 (3:1) Tottenham Hotspur<br/><br/>Liverpool FC:<br/>Alexand
 er-Arnold (76. Endō), Alisson Becker, Díaz (76. Elliott), Gakpo (68. Diogo 
 Jota), Gravenberch, Konaté, Mac Allister (83. Núñez), Robertson, Salah, Szo
 boszlai (68. Jones), van Dijk<br/><br/>Tottenham Hotspur:<br/>Bergvall, Dan
 so, Davies, Gray (46. Sarr), Johnson, Maddison (46. Kulusevski), Solanke (6
 8. Richarlison), Spence, Tel (68. Odobert), Udogie, Vicario<br/><br/>Tore:<
 br/>0:1 Solanke (12.)<br/>1:1 Díaz (16.)<br/>2:1 Mac Allister (24.)<br/>3:1
  Gakpo (34.)<br/>4:1 Salah (63.)<br/>5:1 Udogie (69.)<br/><br/><br/><br/><b
 r/><br/>Anbieter-Impressum: <a href="http://calovo.de/impressum">http://cal
 ovo.de/impressum</a><br/><br/><br/>calovo Kalender löschen? Anleitung: term
 ine.de/ical/loeschen
DTSTAMP:20260422T213514
DTSTART;TZID=Europe/Berlin:20250427T173000
DTEND;TZID=Europe/Berlin:20250427T193000
SEQUENCE:0
TRANSP:OPAQUE
END:VEVENT
END:VCALENDAR