BEGIN:VCALENDAR
VERSION:2.0
PRODID:-//jEvents 2.0 for Joomla//EN
CALSCALE:GREGORIAN
METHOD:PUBLISH
BEGIN:VTIMEZONE
TZID:Europe/Berlin
BEGIN:STANDARD
DTSTART:20241027T020000
RDATE:20250330T030000
TZOFFSETFROM:+0200
TZOFFSETTO:+0100
TZNAME:Europe/Berlin CET
END:STANDARD
BEGIN:STANDARD
DTSTART:20251026T020000
RDATE:20260329T030000
TZOFFSETFROM:+0200
TZOFFSETTO:+0100
TZNAME:Europe/Berlin CET
END:STANDARD
BEGIN:DAYLIGHT
DTSTART:20240503T173000
RDATE:20241027T020000
TZOFFSETFROM:+0100
TZOFFSETTO:+0200
TZNAME:Europe/Berlin CEST
END:DAYLIGHT
BEGIN:DAYLIGHT
DTSTART:20250330T030000
RDATE:20251026T020000
TZOFFSETFROM:+0100
TZOFFSETTO:+0200
TZNAME:Europe/Berlin CEST
END:DAYLIGHT
END:VTIMEZONE
BEGIN:VEVENT
UID:6677ac23adbeb@2889.calovo
CATEGORIES:Liverpool
CREATED:20241021T090848
SUMMARY:Chelsea FC 3:1 (1:0) LIV
LOCATION:calovo.de | Stamford Bridge (Stadion)\, London\, England
DESCRIPTION:Chelsea FC 3:1 (1:0) Liverpool FC\n\nChelsea FC:\nCaicedo, Chalobah, Colwil
 l, Cucurella, Fernández (88. James), Jackson (72. Sancho), Lavia (78. Gusto
 ), Madueke, Palmer, Pedro Neto, Robert Sánchez\n\nLiverpool FC:\nAlexander-
 Arnold (58. Bradley), Alisson Becker, Diogo Jota (58. Núñez), Elliott (69. 
 Szoboszlai), Endō (69. Mac Allister), Gakpo, Jones, Quansah, Salah, Tsimika
 s (82. Chiesa), van Dijk\n\nTore:\n1:0 Fernández (3.)\n2:0 Quansah (56.)\n2
 :1 van Dijk (85.)\n3:1 Palmer (90.)\n\n\n\n\n\nAnbieter-Impressum: http://c
 alovo.de/impressum (http://calovo.de/impressum)\n\n\ncalovo Kalender lösche
 n? Anleitung: termine.de/ical/loeschen
X-ALT-DESC;FMTTYPE=text/html:Chelsea FC 3:1 (1:0) Liverpool FC<br/><br/>Chelsea FC:<br/>Caicedo, Chaloba
 h, Colwill, Cucurella, Fernández (88. James), Jackson (72. Sancho), Lavia (
 78. Gusto), Madueke, Palmer, Pedro Neto, Robert Sánchez<br/><br/>Liverpool 
 FC:<br/>Alexander-Arnold (58. Bradley), Alisson Becker, Diogo Jota (58. Núñ
 ez), Elliott (69. Szoboszlai), Endō (69. Mac Allister), Gakpo, Jones, Quans
 ah, Salah, Tsimikas (82. Chiesa), van Dijk<br/><br/>Tore:<br/>1:0 Fernández
  (3.)<br/>2:0 Quansah (56.)<br/>2:1 van Dijk (85.)<br/>3:1 Palmer (90.)<br/
 ><br/><br/><br/><br/><br/>Anbieter-Impressum: <a href="http://calovo.de/imp
 ressum">http://calovo.de/impressum</a><br/><br/><br/>calovo Kalender lösche
 n? Anleitung: termine.de/ical/loeschen
DTSTAMP:20260422T194440
DTSTART;TZID=Europe/Berlin:20250504T173000
DTEND;TZID=Europe/Berlin:20250504T193000
SEQUENCE:0
TRANSP:OPAQUE
END:VEVENT
END:VCALENDAR