BEGIN:VCALENDAR
VERSION:2.0
PRODID:-//jEvents 2.0 for Joomla//EN
CALSCALE:GREGORIAN
METHOD:PUBLISH
BEGIN:VTIMEZONE
TZID:Europe/Berlin
BEGIN:STANDARD
DTSTART:20241027T020000
RDATE:20250330T030000
TZOFFSETFROM:+0200
TZOFFSETTO:+0100
TZNAME:Europe/Berlin CET
END:STANDARD
BEGIN:STANDARD
DTSTART:20251026T020000
RDATE:20260329T030000
TZOFFSETFROM:+0200
TZOFFSETTO:+0100
TZNAME:Europe/Berlin CET
END:STANDARD
BEGIN:DAYLIGHT
DTSTART:20240510T173000
RDATE:20241027T020000
TZOFFSETFROM:+0100
TZOFFSETTO:+0200
TZNAME:Europe/Berlin CEST
END:DAYLIGHT
BEGIN:DAYLIGHT
DTSTART:20250330T030000
RDATE:20251026T020000
TZOFFSETFROM:+0100
TZOFFSETTO:+0200
TZNAME:Europe/Berlin CEST
END:DAYLIGHT
END:VTIMEZONE
BEGIN:VEVENT
UID:6677ac24eaa7e@2889.calovo
CATEGORIES:Liverpool
CREATED:20241021T090848
SUMMARY:LIV 2:2 (2:0) Arsenal FC
LOCATION:calovo.de | Anfield (Stadion)\, Liverpool\, England
DESCRIPTION:Liverpool FC 2:2 (2:0) Arsenal FC<br/><br/>Liverpool FC:<br/>Alisson Becker
 , Bradley (67. Alexander-Arnold), Díaz (79. Diogo Jota), Gakpo (66. Mac All
 ister), Gravenberch (83. Elliott), Jones (67. Núñez), Konaté, Robertson, Sa
 lah, Szoboszlai, van Dijk<br/><br/>Arsenal FC:<br/>David Raya, Gabriel Mart
 inelli, Kiwior, Lewis-Skelly, Mikel Merino, Ødegaard, Partey, Saka (88. Zin
 chenko), Saliba, Trossard (78. Tierney), White (78. Calafiori)<br/><br/>Tor
 e:<br/>1:0 Gakpo (20.)<br/>2:0 Díaz (21.)<br/>2:1 Gabriel Martinelli (47.)<
 br/>2:2 Mikel Merino (70.)<br/><br/><br/><br/><br/><br/>Anbieter-Impressum:
  <a href="http://calovo.de/impressum">http://calovo.de/impressum</a><br/><b
 r/><br/>calovo Kalender löschen? Anleitung: termine.de/ical/loeschen
DTSTAMP:20260422T194444
DTSTART;TZID=Europe/Berlin:20250511T173000
DTEND;TZID=Europe/Berlin:20250511T193000
SEQUENCE:0
TRANSP:OPAQUE
END:VEVENT
END:VCALENDAR