BEGIN:VCALENDAR
VERSION:2.0
PRODID:-//jEvents 2.0 for Joomla//EN
CALSCALE:GREGORIAN
METHOD:PUBLISH
BEGIN:VTIMEZONE
TZID:Europe/Berlin
BEGIN:STANDARD
DTSTART:20241027T020000
RDATE:20250330T030000
TZOFFSETFROM:+0200
TZOFFSETTO:+0100
TZNAME:Europe/Berlin CET
END:STANDARD
BEGIN:STANDARD
DTSTART:20251026T020000
RDATE:20260329T030000
TZOFFSETFROM:+0200
TZOFFSETTO:+0100
TZNAME:Europe/Berlin CET
END:STANDARD
BEGIN:DAYLIGHT
DTSTART:20240518T210000
RDATE:20241027T020000
TZOFFSETFROM:+0100
TZOFFSETTO:+0200
TZNAME:Europe/Berlin CEST
END:DAYLIGHT
BEGIN:DAYLIGHT
DTSTART:20250330T030000
RDATE:20251026T020000
TZOFFSETFROM:+0100
TZOFFSETTO:+0200
TZNAME:Europe/Berlin CEST
END:DAYLIGHT
END:VTIMEZONE
BEGIN:VEVENT
UID:6677ac26b37eb@2889.calovo
CATEGORIES:Liverpool
CREATED:20241021T090848
SUMMARY:Brighton & Hove Albion 3:2 (1:2) LIV
LOCATION:calovo.de | Amex Stadium (Stadion)\, Brighton\, England
DESCRIPTION:Brighton & Hove Albion 3:2 (1:2) Liverpool FC<br/><br/>Brighton & Hove Albi
 on:<br/>Adingra (65. Mitoma), Ayari (74. Gómez), Baleba, Estupiñán, Gruda (
 74. ORiley), Minteh (84. Hinshelwood), van Hecke, Verbruggen, Webster, Welb
 eck (84. Howell), Wieffer<br/><br/>Liverpool FC:<br/>Alisson Becker, Bradle
 y (77. Endō), Chiesa (63. Díaz), Elliott, Gakpo (63. Núñez), Gravenberch, K
 onaté, Quansah, Salah, Szoboszlai (63. Jones), Tsimikas<br/><br/>Tore:<br/>
 0:1 Elliott (9.)<br/>1:1 Ayari (32.)<br/>1:2 Szoboszlai (45.)<br/>2:2 Mitom
 a (69.)<br/>3:2 Hinshelwood (85.)<br/><br/><br/><br/><br/><br/>Anbieter-Imp
 ressum: <a href="http://calovo.de/impressum">http://calovo.de/impressum</a>
 <br/><br/><br/>calovo Kalender löschen? Anleitung: termine.de/ical/loeschen
DTSTAMP:20260422T194444
DTSTART;TZID=Europe/Berlin:20250519T210000
DTEND;TZID=Europe/Berlin:20250519T230000
SEQUENCE:0
TRANSP:OPAQUE
END:VEVENT
END:VCALENDAR