BEGIN:VCALENDAR
VERSION:2.0
PRODID:-//jEvents 2.0 for Joomla//EN
CALSCALE:GREGORIAN
METHOD:PUBLISH
BEGIN:VTIMEZONE
TZID:Europe/Berlin
BEGIN:STANDARD
DTSTART:20241027T020000
RDATE:20250330T030000
TZOFFSETFROM:+0200
TZOFFSETTO:+0100
TZNAME:Europe/Berlin CET
END:STANDARD
BEGIN:STANDARD
DTSTART:20251026T020000
RDATE:20260329T030000
TZOFFSETFROM:+0200
TZOFFSETTO:+0100
TZNAME:Europe/Berlin CET
END:STANDARD
BEGIN:DAYLIGHT
DTSTART:20240524T170000
RDATE:20241027T020000
TZOFFSETFROM:+0100
TZOFFSETTO:+0200
TZNAME:Europe/Berlin CEST
END:DAYLIGHT
BEGIN:DAYLIGHT
DTSTART:20250330T030000
RDATE:20251026T020000
TZOFFSETFROM:+0100
TZOFFSETTO:+0200
TZNAME:Europe/Berlin CEST
END:DAYLIGHT
END:VTIMEZONE
BEGIN:VEVENT
UID:6677ac286aab9@2889.calovo
CATEGORIES:Liverpool
CREATED:20241021T090848
SUMMARY:LIV 1:1 (0:1) Crystal Palace
LOCATION:calovo.de | Anfield (Stadion)\, Liverpool\, England
DESCRIPTION:Liverpool FC 1:1 (0:1) Crystal Palace\n\nLiverpool FC:\nAlisson Becker, van
  Dijk, Konaté (62. Diogo Jota), Díaz (69. Endō), Szoboszlai (61. Núñez), Sa
 lah, Jones, Gakpo, Robertson (85. Elliott), Gravenberch, Bradley (46. Alexa
 nder-Arnold)\n\nCrystal Palace:\nHenderson, Mitchell, Lacroix, Sarr, Lerma,
  Eze (62. Devenny), Muñoz, Mateta (62. Nketiah), Kamada, Hughes (79. Esse),
  Richards\n\nTore:\n0:1 Sarr (9.)\n1:1 Salah (84.)\n\n\n\n\n\nAnbieter-Impr
 essum: http://calovo.de/impressum (http://calovo.de/impressum)\n\n\ncalovo 
 Kalender löschen? Anleitung: termine.de/ical/loeschen
X-ALT-DESC;FMTTYPE=text/html:Liverpool FC 1:1 (0:1) Crystal Palace<br/><br/>Liverpool FC:<br/>Alisson Be
 cker, van Dijk, Konaté (62. Diogo Jota), Díaz (69. Endō), Szoboszlai (61. N
 úñez), Salah, Jones, Gakpo, Robertson (85. Elliott), Gravenberch, Bradley (
 46. Alexander-Arnold)<br/><br/>Crystal Palace:<br/>Henderson, Mitchell, Lac
 roix, Sarr, Lerma, Eze (62. Devenny), Muñoz, Mateta (62. Nketiah), Kamada, 
 Hughes (79. Esse), Richards<br/><br/>Tore:<br/>0:1 Sarr (9.)<br/>1:1 Salah 
 (84.)<br/><br/><br/><br/><br/><br/>Anbieter-Impressum: <a href="http://calo
 vo.de/impressum">http://calovo.de/impressum</a><br/><br/><br/>calovo Kalend
 er löschen? Anleitung: termine.de/ical/loeschen
DTSTAMP:20260422T230627
DTSTART;TZID=Europe/Berlin:20250525T170000
DTEND;TZID=Europe/Berlin:20250525T190000
SEQUENCE:0
TRANSP:OPAQUE
END:VEVENT
END:VCALENDAR